Workbook

Sheet 0 
E5: INSURANCE
E6: SUPERVISION
E7: AGENCY
A9: R e p u b l i c o f N o r t h M a c e d o n i a
A15: Report on the scope and content of the work
A16: of Insurance Brokerage Companies
A17: for the period 1.1-30.9.2019
D36: Skopje, 2020
A39: Remark: The data is obtained from the companies through regularly reporting according to the article 151 from the Insurance Supervision Law (“Official Gazette” no. 27/02, 84/02, 98/02, 33/04, 88/05, 79/07, 8/08, 88/08, 56/09, 67/10, 44/11, 188/13, 43/14, 112/14, 153/15, 192/15, 23/16, 83/18, 198/18 and 101/19). The management is responsible for fair presentation and accurate data. Exchange rate on 30.9.2019: 1 EUR = 61.4950 MKD

Sheet 1
D1: Table 1. Number of contracts (by insurance undertakings)
A3: No. | D3: Intermediation insurance activities | E3: Makedonija | F3: Triglav | G3: Sava | H3: Evroins | I3: Winner | J3: Eurolink | K3: Grawe nonlife | L3: Uniqa | M3: Halk | N3: Croatia nonlife | O3: Insurance policy | P3: Croatia life | Q3: Grawe | R3: Winner life | S3: Uniqa life | T3: Triglav life | U3: Total
D4: AMG Premium | E4: ='[1]1'!E4 -> 357 | F4: ='[1]1'!F4 -> 234 | G4: ='[1]1'!G4 -> 5 | H4: ='[1]1'!H4 -> 0 | I4: ='[1]1'!I4 -> 93 | J4: ='[1]1'!J4 -> 0 | K4: ='[1]1'!K4 -> 0 | L4: ='[1]1'!L4 -> 138 | ... U4: ='[1]1'!U4 -> 1392
D5: A-tim | E5: ='[1]1'!E5 -> 0 | F5: ='[1]1'!F5 -> 6 | G5: ='[1]1'!G5 -> 0 | H5: ='[1]1'!H5 -> 83 | I5: ='[1]1'!I5 -> 0 | J5: ='[1]1'!J5 -> 67 | K5: ='[1]1'!K5 -> 0 | L5: ='[1]1'!L5 -> 0 | ... U5: ='[1]1'!U5 -> 159
D6: VFP | E6: ='[1]1'!E6 -> 667 | F6: ='[1]1'!F6 -> 3017 | G6: ='[1]1'!G6 -> 2989 | H6: ='[1]1'!H6 -> 0 | I6: ='[1]1'!I6 -> 42 | J6: ='[1]1'!J6 -> 1038 | K6: ='[1]1'!K6 -> 0 | L6: ='[1]1'!L6 -> 128 | ... U6: ='[1]1'!U6 -> 17313
D7: Delta- ins | E7: ='[1]1'!E7 -> 0 | F7: ='[1]1'!F7 -> 209 | G7: ='[1]1'!G7 -> 89 | H7: ='[1]1'!H7 -> 201 | I7: ='[1]1'!I7 -> 5 | J7: ='[1]1'!J7 -> 20 | K7: ='[1]1'!K7 -> 1 | L7: ='[1]1'!L7 -> 2 | ... U7: ='[1]1'!U7 -> 921
D8: Euro eksperts | E8: ='[1]1'!E8 -> 97 | F8: ='[1]1'!F8 -> 774 | G8: ='[1]1'!G8 -> 438 | H8: ='[1]1'!H8 -> 1 | I8: ='[1]1'!I8 -> 4 | J8: ='[1]1'!J8 -> 30 | K8: ='[1]1'!K8 -> 0 | L8: ='[1]1'!L8 -> 1 | ... U8: ='[1]1'!U8 -> 2021
D9: Euromak | E9: ='[1]1'!E9 -> 0 | F9: ='[1]1'!F9 -> 94 | G9: ='[1]1'!G9 -> 2 | H9: ='[1]1'!H9 -> 12 | I9: ='[1]1'!I9 -> 8 | J9: ='[1]1'!J9 -> 10 | K9: ='[1]1'!K9 -> 0 | L9: ='[1]1'!L9 -> 63 | ... U9: ='[1]1'!U9 -> 196
D10: In- broker | E10: ='[1]1'!E10 -> 1801 | F10: ='[1]1'!F10 -> 611 | G10: ='[1]1'!G10 -> 67 | H10: ='[1]1'!H10 -> 4 | I10: ='[1]1'!I10 -> 6 | J10: ='[1]1'!J10 -> 450 | K10: ='[1]1'!K10 -> 1 | L10: ='[1]1'!L10 -> 1036 | ... U10: ='[1]1'!U10 -> 4119
D11: JDB Broker | E11: ='[1]1'!E11 -> 14 | F11: ='[1]1'!F11 -> 285 | G11: ='[1]1'!G11 -> 40 | H11: ='[1]1'!H11 -> 12 | I11: ='[1]1'!I11 -> 11 | J11: ='[1]1'!J11 -> 4 | K11: ='[1]1'!K11 -> 0 | L11: ='[1]1'!L11 -> 9 | ... U11: ='[1]1'!U11 -> 492
D12: Legra | E12: ='[1]1'!E12 -> 0 | F12: ='[1]1'!F12 -> 14 | G12: ='[1]1'!G12 -> 0 | H12: ='[1]1'!H12 -> 0 | I12: ='[1]1'!I12 -> 3 | J12: ='[1]1'!J12 -> 56 | K12: ='[1]1'!K12 -> 0 | L12: ='[1]1'!L12 -> 124 | ... U12: ='[1]1'!U12 -> 197
D13: Mobiliti | E13: ='[1]1'!E13 -> 4097 | F13: ='[1]1'!F13 -> 5487 | G13: ='[1]1'!G13 -> 1497 | H13: ='[1]1'!H13 -> 6586 | I13: ='[1]1'!I13 -> 3958 | J13: ='[1]1'!J13 -> 5411 | K13: ='[1]1'!K13 -> 703 | L13: ='[1]1'!L13 -> 880 | ... U13: ='[1]1'!U13 -> 31505
D14: Nashe osiguruvanje | E14: ='[1]1'!E14 -> 275 | F14: ='[1]1'!F14 -> 231 | G14: ='[1]1'!G14 -> 360 | H14: ='[1]1'!H14 -> 47 | I14: ='[1]1'!I14 -> 31 | J14: ='[1]1'!J14 -> 783 | K14: ='[1]1'!K14 -> 1 | L14: ='[1]1'!L14 -> 1383 | ... U14: ='[1]1'!U14 -> 3652
D15: Polisa plus | E15: ='[1]1'!E15 -> 61 | F15: ='[1]1'!F15 -> 1289 | G15: ='[1]1'!G15 -> 660 | H15: ='[1]1'!H15 -> 2074 | I15: ='[1]1'!I15 -> 3590 | J15: ='[1]1'!J15 -> 61 | K15: ='[1]1'!K15 -> 1435 | L15: ='[1]1'!L15 -> 886 | ... U15: ='[1]1'!U15 -> 12145
... D41: Total | E41: ='[1]1'!E41 -> 14537 | F41: ='[1]1'!F41 -> 49348 | G41: ='[1]1'!G41 -> 19611 | H41: ='[1]1'!H41 -> 28428 | I41: ='[1]1'!I41 -> 25768 | J41: ='[1]1'!J41 -> 27745 | K41: ='[1]1'!K41 -> 22791 | L41: ='[1]1'!L41 -> 23538 | ... U41: ='[1]1'!U41 -> 272998
D43: Note: OBD STM Broker Plus did not submit operating data in the third quarter of 2019 under the legal reporting requirement

Sheet 2
D1: Table 2. Number of contracts (by classes of insurance)
A3: No. | D3: Intermediation insurance activities | E3: 01. Accident | F3: 02. Health | G3: 03. Motor vehicles (casco) | H3: 05. Aircrafts (casco) | I3: 06. Vessels (casco) | J3: 07. Cargo | K3: 08. Property, fire and nat.forces | L3: 09. Property, other | M3: 10. MTPL (total) | N3: 11.Aircraft's liability | O3: 12. Vessel's liability | P3: 13. General liability | Q3: 14. Credit | R3: 15. Suretyship | S3: 16. Financial losses | T3: 18.Tourists assistance | U3: 19. Life insurance | V3: 21. Unit- linked | W3: Total
D4: ='1'!D4 -> AMG Premium | E4: ='[1]2'!E4 -> 0 | F4: ='[1]2'!F4 -> 0 | G4: ='[1]2'!G4 -> 6 | H4: ='[1]2'!H4 -> 0 | I4: ='[1]2'!I4 -> 0 | J4: ='[1]2'!J4 -> 0 | K4: ='[1]2'!K4 -> 89 | L4: ='[1]2'!L4 -> 230 | ... W4: ='[1]2'!W4 -> 1392
D5: ='1'!D5 -> A-tim | E5: ='[1]2'!E5 -> 59 | F5: ='[1]2'!F5 -> 0 | G5: ='[1]2'!G5 -> 12 | H5: ='[1]2'!H5 -> 0 | I5: ='[1]2'!I5 -> 0 | J5: ='[1]2'!J5 -> 0 | K5: ='[1]2'!K5 -> 6 | L5: ='[1]2'!L5 -> 17 | ... W5: ='[1]2'!W5 -> 159
D6: ='1'!D6 -> VFP | E6: ='[1]2'!E6 -> 3111 | F6: ='[1]2'!F6 -> 1403 | G6: ='[1]2'!G6 -> 466 | H6: ='[1]2'!H6 -> 0 | I6: ='[1]2'!I6 -> 1 | J6: ='[1]2'!J6 -> 6 | K6: ='[1]2'!K6 -> 1272 | L6: ='[1]2'!L6 -> 1607 | ... W6: ='[1]2'!W6 -> 17313
D7: ='1'!D7 -> Delta- ins | E7: ='[1]2'!E7 -> 22 | F7: ='[1]2'!F7 -> 17 | G7: ='[1]2'!G7 -> 55 | H7: ='[1]2'!H7 -> 0 | I7: ='[1]2'!I7 -> 0 | J7: ='[1]2'!J7 -> 0 | K7: ='[1]2'!K7 -> 101 | L7: ='[1]2'!L7 -> 37 | ... W7: ='[1]2'!W7 -> 921
D8: ='1'!D8 -> Euro eksperts | E8: ='[1]2'!E8 -> 101 | F8: ='[1]2'!F8 -> 30 | G8: ='[1]2'!G8 -> 137 | H8: ='[1]2'!H8 -> 0 | I8: ='[1]2'!I8 -> 0 | J8: ='[1]2'!J8 -> 2 | K8: ='[1]2'!K8 -> 102 | L8: ='[1]2'!L8 -> 322 | ... W8: ='[1]2'!W8 -> 2021
D9: ='1'!D9 -> Euromak | E9: ='[1]2'!E9 -> 44 | F9: ='[1]2'!F9 -> 39 | G9: ='[1]2'!G9 -> 20 | H9: ='[1]2'!H9 -> 0 | I9: ='[1]2'!I9 -> 0 | J9: ='[1]2'!J9 -> 3 | K9: ='[1]2'!K9 -> 17 | L9: ='[1]2'!L9 -> 17 | ... W9: ='[1]2'!W9 -> 196
D10: ='1'!D10 -> In- broker | E10: ='[1]2'!E10 -> 478 | F10: ='[1]2'!F10 -> 34 | G10: ='[1]2'!G10 -> 482 | H10: ='[1]2'!H10 -> 0 | I10: ='[1]2'!I10 -> 0 | J10: ='[1]2'!J10 -> 138 | K10: ='[1]2'!K10 -> 843 | L10: ='[1]2'!L10 -> 326 | ... W10: ='[1]2'!W10 -> 4119
D11: ='1'!D11 -> JDB Broker | E11: ='[1]2'!E11 -> 112 | F11: ='[1]2'!F11 -> 0 | G11: ='[1]2'!G11 -> 37 | H11: ='[1]2'!H11 -> 0 | I11: ='[1]2'!I11 -> 0 | J11: ='[1]2'!J11 -> 0 | K11: ='[1]2'!K11 -> 27 | L11: ='[1]2'!L11 -> 49 | ... W11: ='[1]2'!W11 -> 492
D12: ='1'!D12 -> Legra | E12: ='[1]2'!E12 -> 7 | F12: ='[1]2'!F12 -> 0 | G12: ='[1]2'!G12 -> 12 | H12: ='[1]2'!H12 -> 0 | I12: ='[1]2'!I12 -> 0 | J12: ='[1]2'!J12 -> 1 | K12: ='[1]2'!K12 -> 12 | L12: ='[1]2'!L12 -> 22 | ... W12: ='[1]2'!W12 -> 197
D13: ='1'!D13 -> Mobiliti | E13: ='[1]2'!E13 -> 10622 | F13: ='[1]2'!F13 -> 0 | G13: ='[1]2'!G13 -> 396 | H13: ='[1]2'!H13 -> 0 | I13: ='[1]2'!I13 -> 1 | J13: ='[1]2'!J13 -> 2 | K13: ='[1]2'!K13 -> 32 | L13: ='[1]2'!L13 -> 68 | ... W13: ='[1]2'!W13 -> 31505
D14: ='1'!D14 -> Nashe osiguruvanje | E14: ='[1]2'!E14 -> 939 | F14: ='[1]2'!F14 -> 0 | G14: ='[1]2'!G14 -> 203 | H14: ='[1]2'!H14 -> 0 | I14: ='[1]2'!I14 -> 0 | J14: ='[1]2'!J14 -> 17 | K14: ='[1]2'!K14 -> 173 | L14: ='[1]2'!L14 -> 162 | ... W14: ='[1]2'!W14 -> 3652
D15: ='1'!D15 -> Polisa plus | E15: ='[1]2'!E15 -> 5744 | F15: ='[1]2'!F15 -> 0 | G15: ='[1]2'!G15 -> 74 | H15: ='[1]2'!H15 -> 0 | I15: ='[1]2'!I15 -> 0 | J15: ='[1]2'!J15 -> 0 | K15: ='[1]2'!K15 -> 11 | L15: ='[1]2'!L15 -> 17 | ... W15: ='[1]2'!W15 -> 12145
... D41: ='1'!D41 -> Total | E41: ='[1]2'!E41 -> 91401 | F41: ='[1]2'!F41 -> 2689 | G41: ='[1]2'!G41 -> 9663 | H41: ='[1]2'!H41 -> 4 | I41: ='[1]2'!I41 -> 16 | J41: ='[1]2'!J41 -> 431 | K41: ='[1]2'!K41 -> 3934 | L41: ='[1]2'!L41 -> 5307 | ... W41: ='[1]2'!W41 -> 272998
D43: Note: OBD STM Broker Plus did not submit operating data in the third quarter of 2019 under the legal reporting requirement
D44: The number of concluded contracts is not a sum of the number of contracts concluded separately by classes of insurance, since an insurance contract may cover insured events in relation to different classes of insurance and in that case the contract is entered into each class of insurance, according to the clasiffication of the classes of insurance, but counts only once. The aggregate amount of this parameter for all classes of insurance is the number of concluded contracts, regardless of whether the policy covers the risks of one or more classes of insurance.

Sheet 3
A1: Table 3. Gross Written Premium (by insurance undertaking)
R2: 000 mkd
A3: Intermediation insurance activities | B3: Makedonija | C3: Triglav | D3: Sava | E3: Evroins | F3: Winner | G3: Eurolink | H3: Grawe nonlife | I3: Uniqa | J3: Halk | K3: Croatoa nonlife | L3: Insurance policy | M3: Croatia life | N3: Grawe | O3: Winner life | P3: Uniqa life | Q3: Triglav life | R3: Total
A4: ='1'!D4 -> AMG Premium | B4: ='[1]3'!E4 -> 2936 | C4: ='[1]3'!F4 -> 1161 | D4: ='[1]3'!G4 -> 30 | E4: ='[1]3'!H4 -> 0 | F4: ='[1]3'!I4 -> 495 | G4: ='[1]3'!J4 -> 0 | H4: ='[1]3'!K4 -> 0 | I4: ='[1]3'!L4 -> 604 | ... R4: ='[1]3'!U4 -> 7536
A5: ='1'!D5 -> A-tim | B5: ='[1]3'!E5 -> 0 | C5: ='[1]3'!F5 -> 85 | D5: ='[1]3'!G5 -> 0 | E5: ='[1]3'!H5 -> 529 | F5: ='[1]3'!I5 -> 0 | G5: ='[1]3'!J5 -> 972 | H5: ='[1]3'!K5 -> 0 | I5: ='[1]3'!L5 -> 0 | ... R5: ='[1]3'!U5 -> 1658
A6: ='1'!D6 -> VFP | B6: ='[1]3'!E6 -> 10649 | C6: ='[1]3'!F6 -> 58288 | D6: ='[1]3'!G6 -> 16658 | E6: ='[1]3'!H6 -> 0 | F6: ='[1]3'!I6 -> 2826 | G6: ='[1]3'!J6 -> 22150 | H6: ='[1]3'!K6 -> 0 | I6: ='[1]3'!L6 -> 3780 | ... R6: ='[1]3'!U6 -> 626186
A7: ='1'!D7 -> Delta- ins | B7: ='[1]3'!E7 -> 0 | C7: ='[1]3'!F7 -> 1500 | D7: ='[1]3'!G7 -> 551 | E7: ='[1]3'!H7 -> 1315 | F7: ='[1]3'!I7 -> 151 | G7: ='[1]3'!J7 -> 238 | H7: ='[1]3'!K7 -> 6 | I7: ='[1]3'!L7 -> 375 | ... R7: ='[1]3'!U7 -> 6873
A8: ='1'!D8 -> Euro eksperts | B8: ='[1]3'!E8 -> 2344 | C8: ='[1]3'!F8 -> 5581 | D8: ='[1]3'!G8 -> 2793 | E8: ='[1]3'!H8 -> 2 | F8: ='[1]3'!I8 -> 6 | G8: ='[1]3'!J8 -> 758 | H8: ='[1]3'!K8 -> 0 | I8: ='[1]3'!L8 -> 4 | ... R8: ='[1]3'!U8 -> 13775
A9: ='1'!D9 -> Euromak | B9: ='[1]3'!E9 -> 0 | C9: ='[1]3'!F9 -> 6218 | D9: ='[1]3'!G9 -> 21 | E9: ='[1]3'!H9 -> 93 | F9: ='[1]3'!I9 -> 1406 | G9: ='[1]3'!J9 -> 43 | H9: ='[1]3'!K9 -> 0 | I9: ='[1]3'!L9 -> 6313 | ... R9: ='[1]3'!U9 -> 14345
A10: ='1'!D10 -> In- broker | B10: ='[1]3'!E10 -> 91568 | C10: ='[1]3'!F10 -> 7919 | D10: ='[1]3'!G10 -> 466 | E10: ='[1]3'!H10 -> 53 | F10: ='[1]3'!I10 -> 19 | G10: ='[1]3'!J10 -> 1674 | H10: ='[1]3'!K10 -> 1 | I10: ='[1]3'!L10 -> 83919 | ... R10: ='[1]3'!U10 -> 187857
A11: ='1'!D11 -> JDB Broker | B11: ='[1]3'!E11 -> 1666 | C11: ='[1]3'!F11 -> 984 | D11: ='[1]3'!G11 -> 3445 | E11: ='[1]3'!H11 -> 101 | F11: ='[1]3'!I11 -> 3306 | G11: ='[1]3'!J11 -> 24 | H11: ='[1]3'!K11 -> 0 | I11: ='[1]3'!L11 -> 648 | ... R11: ='[1]3'!U11 -> 13360
A12: ='1'!D12 -> Legra | B12: ='[1]3'!E12 -> 0 | C12: ='[1]3'!F12 -> 210 | D12: ='[1]3'!G12 -> 0 | E12: ='[1]3'!H12 -> 0 | F12: ='[1]3'!I12 -> 14 | G12: ='[1]3'!J12 -> 78 | H12: ='[1]3'!K12 -> 0 | I12: ='[1]3'!L12 -> 12631 | ... R12: ='[1]3'!U12 -> 12933
A13: ='1'!D13 -> Mobiliti | B13: ='[1]3'!E13 -> 18641 | C13: ='[1]3'!F13 -> 26334 | D13: ='[1]3'!G13 -> 6936 | E13: ='[1]3'!H13 -> 12154 | F13: ='[1]3'!I13 -> 16859 | G13: ='[1]3'!J13 -> 23767 | H13: ='[1]3'!K13 -> 2848 | I13: ='[1]3'!L13 -> 3645 | ... R13: ='[1]3'!U13 -> 124764
A14: ='1'!D14 -> Nashe osiguruvanje | B14: ='[1]3'!E14 -> 5250 | C14: ='[1]3'!F14 -> 4949 | D14: ='[1]3'!G14 -> 3685 | E14: ='[1]3'!H14 -> 2189 | F14: ='[1]3'!I14 -> 1114 | G14: ='[1]3'!J14 -> 6381 | H14: ='[1]3'!K14 -> 3 | I14: ='[1]3'!L14 -> 5507 | ... R14: ='[1]3'!U14 -> 34524
A15: ='1'!D15 -> Polisa plus | B15: ='[1]3'!E15 -> 226 | C15: ='[1]3'!F15 -> 3441 | D15: ='[1]3'!G15 -> 791 | E15: ='[1]3'!H15 -> 7013 | F15: ='[1]3'!I15 -> 17608 | G15: ='[1]3'!J15 -> 193 | H15: ='[1]3'!K15 -> 6358 | I15: ='[1]3'!L15 -> 4106 | ... R15: ='[1]3'!U15 -> 50261
... A41: ='1'!D41 -> Total | B41: ='[1]3'!E41 -> 178982 | C41: ='[1]3'!F41 -> 285936 | D41: ='[1]3'!G41 -> 149378 | E41: ='[1]3'!H41 -> 289362 | F41: ='[1]3'!I41 -> 143058 | G41: ='[1]3'!J41 -> 252505 | H41: ='[1]3'!K41 -> 107661 | I41: ='[1]3'!L41 -> 279877 | ... R41: ='[1]3'!U41 -> 2604620
A43: Note: OBD STM Broker Plus did not submit operating data in the third quarter of 2019 under the legal reporting requirement

Sheet 4
D1: Table 4. Gross Written Premium (by classes of insurance)
W2: 000 mkd
D3: Intermediation insurance activities | E3: 01. Accident | F3: 02. Health | G3: 03. Motor vehicles (casco) | H3: 05. Aircrafts (casco) | I3: 06. Vessels (casco) | J3: 07. Cargo | K3: 08. Property, fire and nat.forces | L3: 09. Property, other | M3: 10. MTPL (total) | N3: 11.Aircraft's liability | O3: 12. Vessel's liability | P3: 13. General liability | Q3: 14. Credit | R3: 15. Suretyship | S3: 16. Financial losses | T3: 18.Tourists assistance | U3: 19. Life insurance | V3: 21. Unit- linked | W3: Total
D4: ='1'!D4 -> AMG Premium | E4: ='[1]4'!E4 -> 0 | F4: ='[1]4'!F4 -> 0 | G4: ='[1]4'!G4 -> 65 | H4: ='[1]4'!H4 -> 0 | I4: ='[1]4'!I4 -> 0 | J4: ='[1]4'!J4 -> 0 | K4: ='[1]4'!K4 -> 1647 | L4: ='[1]4'!L4 -> 1143 | ... W4: ='[1]4'!W4 -> 7536
D5: ='1'!D5 -> A-tim | E5: ='[1]4'!E5 -> 402 | F5: ='[1]4'!F5 -> 0 | G5: ='[1]4'!G5 -> 271 | H5: ='[1]4'!H5 -> 0 | I5: ='[1]4'!I5 -> 0 | J5: ='[1]4'!J5 -> 0 | K5: ='[1]4'!K5 -> 223 | L5: ='[1]4'!L5 -> 326 | ... W5: ='[1]4'!W5 -> 1658
D6: ='1'!D6 -> VFP | E6: ='[1]4'!E6 -> 16765 | F6: ='[1]4'!F6 -> 54370 | G6: ='[1]4'!G6 -> 9607 | H6: ='[1]4'!H6 -> 0 | I6: ='[1]4'!I6 -> 36 | J6: ='[1]4'!J6 -> 109 | K6: ='[1]4'!K6 -> 11165 | L6: ='[1]4'!L6 -> 15960 | ... W6: ='[1]4'!W6 -> 626186
D7: ='1'!D7 -> Delta- ins | E7: ='[1]4'!E7 -> 1011 | F7: ='[1]4'!F7 -> 246 | G7: ='[1]4'!G7 -> 1019 | H7: ='[1]4'!H7 -> 0 | I7: ='[1]4'!I7 -> 0 | J7: ='[1]4'!J7 -> 0 | K7: ='[1]4'!K7 -> 486 | L7: ='[1]4'!L7 -> 1458 | ... W7: ='[1]4'!W7 -> 6873
D8: ='1'!D8 -> Euro eksperts | E8: ='[1]4'!E8 -> 1547 | F8: ='[1]4'!F8 -> 385 | G8: ='[1]4'!G8 -> 3475 | H8: ='[1]4'!H8 -> 0 | I8: ='[1]4'!I8 -> 0 | J8: ='[1]4'!J8 -> 21 | K8: ='[1]4'!K8 -> 1651 | L8: ='[1]4'!L8 -> 2412 | ... W8: ='[1]4'!W8 -> 13775
D9: ='1'!D9 -> Euromak | E9: ='[1]4'!E9 -> 260 | F9: ='[1]4'!F9 -> 160 | G9: ='[1]4'!G9 -> 500 | H9: ='[1]4'!H9 -> 0 | I9: ='[1]4'!I9 -> 0 | J9: ='[1]4'!J9 -> 309 | K9: ='[1]4'!K9 -> 9372 | L9: ='[1]4'!L9 -> 756 | ... W9: ='[1]4'!W9 -> 14345
D10: ='1'!D10 -> In- broker | E10: ='[1]4'!E10 -> 7350 | F10: ='[1]4'!F10 -> 510 | G10: ='[1]4'!G10 -> 18094 | H10: ='[1]4'!H10 -> 0 | I10: ='[1]4'!I10 -> 0 | J10: ='[1]4'!J10 -> 2326 | K10: ='[1]4'!K10 -> 25786 | L10: ='[1]4'!L10 -> 21533 | ... W10: ='[1]4'!W10 -> 187857
D11: ='1'!D11 -> JDB Broker | E11: ='[1]4'!E11 -> 2520 | F11: ='[1]4'!F11 -> 0 | G11: ='[1]4'!G11 -> 668 | H11: ='[1]4'!H11 -> 0 | I11: ='[1]4'!I11 -> 0 | J11: ='[1]4'!J11 -> 0 | K11: ='[1]4'!K11 -> 2865 | L11: ='[1]4'!L11 -> 5650 | ... W11: ='[1]4'!W11 -> 13360
D12: ='1'!D12 -> Legra | E12: ='[1]4'!E12 -> 65 | F12: ='[1]4'!F12 -> 0 | G12: ='[1]4'!G12 -> 858 | H12: ='[1]4'!H12 -> 0 | I12: ='[1]4'!I12 -> 0 | J12: ='[1]4'!J12 -> 93 | K12: ='[1]4'!K12 -> 509 | L12: ='[1]4'!L12 -> 9989 | ... W12: ='[1]4'!W12 -> 12933
D13: ='1'!D13 -> Mobiliti | E13: ='[1]4'!E13 -> 4642 | F13: ='[1]4'!F13 -> 0 | G13: ='[1]4'!G13 -> 3469 | H13: ='[1]4'!H13 -> 0 | I13: ='[1]4'!I13 -> 6 | J13: ='[1]4'!J13 -> 76 | K13: ='[1]4'!K13 -> 462 | L13: ='[1]4'!L13 -> 462 | ... W13: ='[1]4'!W13 -> 124764
D14: ='1'!D14 -> Nashe osiguruvanje | E14: ='[1]4'!E14 -> 4664 | F14: ='[1]4'!F14 -> 0 | G14: ='[1]4'!G14 -> 4144 | H14: ='[1]4'!H14 -> 0 | I14: ='[1]4'!I14 -> 0 | J14: ='[1]4'!J14 -> 194 | K14: ='[1]4'!K14 -> 7909 | L14: ='[1]4'!L14 -> 4258 | ... W14: ='[1]4'!W14 -> 34524
D15: ='1'!D15 -> Polisa plus | E15: ='[1]4'!E15 -> 1176 | F15: ='[1]4'!F15 -> 0 | G15: ='[1]4'!G15 -> 220 | H15: ='[1]4'!H15 -> 0 | I15: ='[1]4'!I15 -> 0 | J15: ='[1]4'!J15 -> 0 | K15: ='[1]4'!K15 -> 180 | L15: ='[1]4'!L15 -> 150 | ... W15: ='[1]4'!W15 -> 50261
... D41: ='1'!D41 -> Total | E41: ='[1]4'!E41 -> 91549 | F41: ='[1]4'!F41 -> 69424 | G41: ='[1]4'!G41 -> 340129 | H41: ='[1]4'!H41 -> 3411 | I41: ='[1]4'!I41 -> 300 | J41: ='[1]4'!J41 -> 7125 | K41: ='[1]4'!K41 -> 91353 | L41: ='[1]4'!L41 -> 295032 | ... W41: ='[1]4'!W41 -> 2604620
D43: Note: OBD STM Broker Plus did not submit operating data in the third quarter of 2019 under the legal reporting requirement
