Workbook

Sheet 0з
E5: AGJENCIA E MBIKËQYRJES SË SIGURIMEVE
A9: Republika e Maqedonisë së Veriut
A18: Raporti për volumin dhe përmbajtjen e veprimtarisë
A19: të shoqërive për parfaqësim në sigurime
A20: për periudhën 1.1-30.6.2021
D39: Shkup, 2021
A43: Shpjegim: Të dhënat janë dhëna nga shoqëritë e sigurimeve gjatë njoftimeve të rregullta në përputhje me nenin 151 të Ligjit për Mbikqyrjen e sigurimeve (“Gazeta Zyrtare e Republikës së Maqedonisë” nr. 2 27/02, 84/02, 98/02, 33/04, 88/05, 79/07, 8/08, 88/08, 56/09, 67/10, 44/11, 188/13, 43/14, 112/14, 153/15, 192/15, 23/16, 83/18 и 198/18) dhe"Gazeta Zyrtare e Republikës së Maqedonisë së Veriut" nr. 101/2019 dhe 31/2020). Strukturat drejtuese janë përgjegjëse për paraqitjen objektive të të dhënave. Kursi i këmbimit në 30.6.2021: 1 EUR = 61.6950 MKD

Sheet 1з
A1: Tabela1. Numri i kontratave (sipas shoqërive të sigurimeve)
A3: Shoqëria e sigurimeve | B3: Aktiva | C3: Trend Mr | D3: Lajon ins | E3: Safe life | F3: Fortis pro | G3: Rea insurance group | H3: Lajf Vizion | I3: NLB banka | J3: Vash prijatel | K3: Sparkasse banka | L3: Family Partner | M3: Halk Banka | N3: Stopanska Banka | O3: Komercijalna Banka | P3: Moe Osiguruvanje | Q3: UNI bank | R3: TTK bank | S3: Gjithësej
A4: Jo jetë | B4: ='[1]1з'!B4 -> 10324 | C4: ='[1]1з'!C4 -> 9774 | D4: ='[1]1з'!D4 -> 5618 | E4: ='[1]1з'!E4 -> 0 | F4: ='[1]1з'!F4 -> 366 | G4: ='[1]1з'!G4 -> 7171 | H4: ='[1]1з'!H4 -> 66 | I4: ='[1]1з'!I4 -> 31203 | ... S4: ='[1]1з'!S4 -> 115284
A5: Maкedonija | B5: ='[1]1з'!B5 -> 10324 | C5: ='[1]1з'!C5 -> 9774 | D5: ='[1]1з'!D5 -> 0 | E5: ='[1]1з'!E5 -> 0 | F5: ='[1]1з'!F5 -> 0 | G5: ='[1]1з'!G5 -> 0 | H5: ='[1]1з'!H5 -> 0 | I5: ='[1]1з'!I5 -> 0 | ... S5: ='[1]1з'!S5 -> 20563
A6: Triglav | B6: ='[1]1з'!B6 -> 0 | C6: ='[1]1з'!C6 -> 0 | D6: ='[1]1з'!D6 -> 0 | E6: ='[1]1з'!E6 -> 0 | F6: ='[1]1з'!F6 -> 0 | G6: ='[1]1з'!G6 -> 0 | H6: ='[1]1з'!H6 -> 0 | I6: ='[1]1з'!I6 -> 0 | ... S6: ='[1]1з'!S6 -> 1198
A7: Sava | B7: ='[1]1з'!B7 -> 0 | C7: ='[1]1з'!C7 -> 0 | D7: ='[1]1з'!D7 -> 0 | E7: ='[1]1з'!E7 -> 0 | F7: ='[1]1з'!F7 -> 366 | G7: ='[1]1з'!G7 -> 0 | H7: ='[1]1з'!H7 -> 0 | I7: ='[1]1з'!I7 -> 31203 | ... S7: ='[1]1з'!S7 -> 33322
A8: Viner | B8: ='[1]1з'!B8 -> 0 | C8: ='[1]1з'!C8 -> 0 | D8: ='[1]1з'!D8 -> 0 | E8: ='[1]1з'!E8 -> 0 | F8: ='[1]1з'!F8 -> 0 | G8: ='[1]1з'!G8 -> 0 | H8: ='[1]1з'!H8 -> 0 | I8: ='[1]1з'!I8 -> 0 | ... S8: ='[1]1з'!S8 -> 1011
A9: Unika | B9: ='[1]1з'!B9 -> 0 | C9: ='[1]1з'!C9 -> 0 | D9: ='[1]1з'!D9 -> 5618 | E9: ='[1]1з'!E9 -> 0 | F9: ='[1]1з'!F9 -> 0 | G9: ='[1]1з'!G9 -> 7171 | H9: ='[1]1з'!H9 -> 66 | I9: ='[1]1з'!I9 -> 0 | ... S9: ='[1]1з'!S9 -> 12855
A10: Halk | B10: ='[1]1з'!B10 -> 0 | C10: ='[1]1з'!C10 -> 0 | D10: ='[1]1з'!D10 -> 0 | E10: ='[1]1з'!E10 -> 0 | F10: ='[1]1з'!F10 -> 0 | G10: ='[1]1з'!G10 -> 0 | H10: ='[1]1з'!H10 -> 0 | I10: ='[1]1з'!I10 -> 0 | ... S10: ='[1]1з'!S10 -> 10344
A11: Kroacija jojetë | B11: ='[1]1з'!B11 -> 0 | C11: ='[1]1з'!C11 -> 0 | D11: ='[1]1з'!D11 -> 0 | E11: ='[1]1з'!E11 -> 0 | F11: ='[1]1з'!F11 -> 0 | G11: ='[1]1з'!G11 -> 0 | H11: ='[1]1з'!H11 -> 0 | I11: ='[1]1з'!I11 -> 0 | ... S11: ='[1]1з'!S11 -> 34652
A12: Osiguritelna polisa | B12: ='[1]1з'!B12 -> 0 | C12: ='[1]1з'!C12 -> 0 | D12: ='[1]1з'!D12 -> 0 | E12: ='[1]1з'!E12 -> 0 | F12: ='[1]1з'!F12 -> 0 | G12: ='[1]1з'!G12 -> 0 | H12: ='[1]1з'!H12 -> 0 | I12: ='[1]1з'!I12 -> 0 | ... S12: ='[1]1з'!S12 -> 1339
A13: Jetë | B13: ='[1]1з'!B13 -> 95 | C13: ='[1]1з'!C13 -> 105 | D13: ='[1]1з'!D13 -> 18 | E13: ='[1]1з'!E13 -> 175 | F13: ='[1]1з'!F13 -> 0 | G13: ='[1]1з'!G13 -> 0 | H13: ='[1]1з'!H13 -> 4 | I13: ='[1]1з'!I13 -> 1493 | ... S13: ='[1]1з'!S13 -> 9366
A14: Kroacija jetë | B14: ='[1]1з'!B14 -> 0 | C14: ='[1]1з'!C14 -> 0 | D14: ='[1]1з'!D14 -> 0 | E14: ='[1]1з'!E14 -> 0 | F14: ='[1]1з'!F14 -> 0 | G14: ='[1]1з'!G14 -> 0 | H14: ='[1]1з'!H14 -> 0 | I14: ='[1]1з'!I14 -> 1493 | ... S14: ='[1]1з'!S14 -> 1699
A15: Grave | B15: ='[1]1з'!B15 -> 0 | C15: ='[1]1з'!C15 -> 0 | D15: ='[1]1з'!D15 -> 0 | E15: ='[1]1з'!E15 -> 175 | F15: ='[1]1з'!F15 -> 0 | G15: ='[1]1з'!G15 -> 0 | H15: ='[1]1з'!H15 -> 0 | I15: ='[1]1з'!I15 -> 0 | ... S15: ='[1]1з'!S15 -> 203
... A19: Gjithësej | B19: ='[1]1з'!B19 -> 10419 | C19: ='[1]1з'!C19 -> 9879 | D19: ='[1]1з'!D19 -> 5636 | E19: ='[1]1з'!E19 -> 175 | F19: ='[1]1з'!F19 -> 366 | G19: ='[1]1з'!G19 -> 7171 | H19: ='[1]1з'!H19 -> 70 | I19: ='[1]1з'!I19 -> 32696 | ... S19: ='[1]1з'!S19 -> 124650

Sheet 2з 
A1: Tabela 2. Numri i kontratave (sipas klasave të sigurimeve )
A3: Klasa e sigurimit | B3: Aktiva | C3: Trend Mr | D3: Lajon ins | E3: Safe life | F3: Fortis pro | G3: Rea insurance group | H3: Lajf Vizion | I3: NLB banka | J3: Vash prijatel | K3: Sparkasse banka | L3: Family Partner | M3: Halk Banka | N3: Stopanska Banka | O3: Komercijalna Banka | P3: Moe Osiguruvanje | Q3: UNI bank | R3: TTK bank | S3: =+'1з'!S3 -> Gjithësej
A4: 01. Sigurimi i aksidenteve | B4: ='[1]2з '!B4 -> 5370 | C4: ='[1]2з '!C4 -> 5346 | D4: ='[1]2з '!D4 -> 3230 | E4: ='[1]2з '!E4 -> 0 | F4: ='[1]2з '!F4 -> 149 | G4: ='[1]2з '!G4 -> 2314 | H4: ='[1]2з '!H4 -> 27 | I4: ='[1]2з '!I4 -> 22236 | ... S4: ='[1]2з '!S4 -> 74579
A5: 02. Sigurimi shëndetësor | B5: ='[1]2з '!B5 -> 4 | C5: ='[1]2з '!C5 -> 0 | D5: ='[1]2з '!D5 -> 0 | E5: ='[1]2з '!E5 -> 0 | F5: ='[1]2з '!F5 -> 11 | G5: ='[1]2з '!G5 -> 0 | H5: ='[1]2з '!H5 -> 3 | I5: ='[1]2з '!I5 -> 0 | ... S5: ='[1]2з '!S5 -> 36
A6: 03. Mjetet motorike kasko | B6: ='[1]2з '!B6 -> 651 | C6: ='[1]2з '!C6 -> 350 | D6: ='[1]2з '!D6 -> 150 | E6: ='[1]2з '!E6 -> 0 | F6: ='[1]2з '!F6 -> 24 | G6: ='[1]2з '!G6 -> 115 | H6: ='[1]2з '!H6 -> 3 | I6: ='[1]2з '!I6 -> 68 | ... S6: ='[1]2з '!S6 -> 1517
A7: 06. Mjetet lundruese kasko | B7: ='[1]2з '!B7 -> 0 | C7: ='[1]2з '!C7 -> 0 | D7: ='[1]2з '!D7 -> 0 | E7: ='[1]2з '!E7 -> 0 | F7: ='[1]2з '!F7 -> 0 | G7: ='[1]2з '!G7 -> 0 | H7: ='[1]2з '!H7 -> 0 | I7: ='[1]2з '!I7 -> 0 | ... S7: ='[1]2з '!S7 -> 1
A8: 07. Kargo | B8: ='[1]2з '!B8 -> 6 | C8: ='[1]2з '!C8 -> 142 | D8: ='[1]2з '!D8 -> 7 | E8: ='[1]2з '!E8 -> 0 | F8: ='[1]2з '!F8 -> 1 | G8: ='[1]2з '!G8 -> 4 | H8: ='[1]2з '!H8 -> 0 | I8: ='[1]2з '!I8 -> 0 | ... S8: ='[1]2з '!S8 -> 168
A9: 08. Prona nga zjarri dhe rreziqe tjera | B9: ='[1]2з '!B9 -> 1547 | C9: ='[1]2з '!C9 -> 1620 | D9: ='[1]2з '!D9 -> 187 | E9: ='[1]2з '!E9 -> 0 | F9: ='[1]2з '!F9 -> 73 | G9: ='[1]2з '!G9 -> 25 | H9: ='[1]2з '!H9 -> 14 | I9: ='[1]2з '!I9 -> 1749 | ... S9: ='[1]2з '!S9 -> 15281
A10: 09. Pronat tjera | B10: ='[1]2з '!B10 -> 349 | C10: ='[1]2з '!C10 -> 322 | D10: ='[1]2з '!D10 -> 133 | E10: ='[1]2з '!E10 -> 0 | F10: ='[1]2з '!F10 -> 115 | G10: ='[1]2з '!G10 -> 16 | H10: ='[1]2з '!H10 -> 11 | I10: ='[1]2з '!I10 -> 6099 | ... S10: ='[1]2з '!S10 -> 9890
A11: 10. AP (gjithsej) | B11: ='[1]2з '!B11 -> 1547 | C11: ='[1]2з '!C11 -> 1620 | D11: ='[1]2з '!D11 -> 187 | E11: ='[1]2з '!E11 -> 0 | F11: ='[1]2з '!F11 -> 73 | G11: ='[1]2з '!G11 -> 25 | H11: ='[1]2з '!H11 -> 14 | I11: ='[1]2з '!I11 -> 1749 | ... S11: ='[1]2з '!S11 -> 15281
A12: 12. Përgjegjësia nga mjete lundruese | B12: ='[1]2з '!B12 -> 6 | C12: ='[1]2з '!C12 -> 13 | D12: ='[1]2з '!D12 -> 1 | E12: ='[1]2з '!E12 -> 0 | F12: ='[1]2з '!F12 -> 0 | G12: ='[1]2з '!G12 -> 0 | H12: ='[1]2з '!H12 -> 0 | I12: ='[1]2з '!I12 -> 0 | ... S12: ='[1]2з '!S12 -> 20
A13: 13. Përgjegjësia e përgjithshme | B13: ='[1]2з '!B13 -> 807 | C13: ='[1]2з '!C13 -> 524 | D13: ='[1]2з '!D13 -> 126 | E13: ='[1]2з '!E13 -> 0 | F13: ='[1]2з '!F13 -> 47 | G13: ='[1]2з '!G13 -> 5 | H13: ='[1]2з '!H13 -> 10 | I13: ='[1]2з '!I13 -> 1 | ... S13: ='[1]2з '!S13 -> 2767
A14: 14. Kredia | B14: ='[1]2з '!B14 -> 0 | C14: ='[1]2з '!C14 -> 0 | D14: ='[1]2з '!D14 -> 0 | E14: ='[1]2з '!E14 -> 0 | F14: ='[1]2з '!F14 -> 0 | G14: ='[1]2з '!G14 -> 0 | H14: ='[1]2з '!H14 -> 0 | I14: ='[1]2з '!I14 -> 0 | ... S14: ='[1]2з '!S14 -> 1152
A15: 16. Humbjet financiare | B15: ='[1]2з '!B15 -> 4 | C15: ='[1]2з '!C15 -> 3 | D15: ='[1]2з '!D15 -> 0 | E15: ='[1]2з '!E15 -> 0 | F15: ='[1]2з '!F15 -> 0 | G15: ='[1]2з '!G15 -> 0 | H15: ='[1]2з '!H15 -> 0 | I15: ='[1]2з '!I15 -> 0 | ... S15: ='[1]2з '!S15 -> 7
... A19: Gjithësej | B19: ='[1]2з '!B19 -> 10419 | C19: ='[1]2з '!C19 -> 9879 | D19: ='[1]2з '!D19 -> 5636 | E19: ='[1]2з '!E19 -> 175 | F19: ='[1]2з '!F19 -> 366 | G19: ='[1]2з '!G19 -> 7171 | H19: ='[1]2з '!H19 -> 70 | I19: ='[1]2з '!I19 -> 32696 | ... S19: ='[1]2з '!S19 -> 124650
A20: Numri i kontratave të lidhura nuk përfqëson përmbledhje të numrit të kontratave në vecanti sipas klasave të sigurimeve, sepse një kontratë sigurimi mund të mbulojë ngjarje sigurimi në lidhje me klasa të ndryshme sigurimi në këtë rast kontrata vendoset në cdo klasë sigurimi, sipas ndarjes të klasave të sigurimit, por numërohet vetëm njëherë. Gjitësej shuma e këtij parametri përmbledhur për të gjitha klasat e sigurimeve përfaqëson numrin e kontratave të lidhura pavarësisht nëse polisa mbulon rreziqe nga një ose më shumë klasa sigurimi

Sheet 3з
A1: Tabela 3. Primi i shkruar bruto (sipas shoqërive të sigurimeve)
S2: 000 mkd
A3: Shoqëria e sigurimeve | B3: Aktiva | C3: Trend Mr | D3: Lajon ins | E3: Safe life | F3: Fortis pro | G3: Rea insurance group | H3: Lajf Vizion | I3: NLB banka | J3: Vash prijatel | K3: Sparkasse banka | L3: Family Partner | M3: Halk Banka | N3: Stopanska Banka | O3: Komercijalna Banka | P3: Moe Osiguruvanje | Q3: UNI bank | R3: TTK bank | S3: Gjithësej
A4: ='1з'!A4 -> Jo jetë | B4: ='[1]3з '!B4 -> 98462 | C4: ='[1]3з '!C4 -> 78235 | D4: ='[1]3з '!D4 -> 33087 | E4: ='[1]3з '!E4 -> 0 | F4: ='[1]3з '!F4 -> 2467 | G4: ='[1]3з '!G4 -> 29684 | H4: ='[1]3з '!H4 -> 546 | I4: ='[1]3з '!I4 -> 22796 | ... S4: ='[1]3з '!S4 -> 352058
A5: ='1з'!A5 -> Maкedonija | B5: ='[1]3з '!B5 -> 98462 | C5: ='[1]3з '!C5 -> 78235 | D5: ='[1]3з '!D5 -> 0 | E5: ='[1]3з '!E5 -> 0 | F5: ='[1]3з '!F5 -> 0 | G5: ='[1]3з '!G5 -> 0 | H5: ='[1]3з '!H5 -> 0 | I5: ='[1]3з '!I5 -> 0 | ... S5: ='[1]3з '!S5 -> 208018
A6: ='1з'!A6 -> Triglav | B6: ='[1]3з '!B6 -> 0 | C6: ='[1]3з '!C6 -> 0 | D6: ='[1]3з '!D6 -> 0 | E6: ='[1]3з '!E6 -> 0 | F6: ='[1]3з '!F6 -> 0 | G6: ='[1]3з '!G6 -> 0 | H6: ='[1]3з '!H6 -> 0 | I6: ='[1]3з '!I6 -> 0 | ... S6: ='[1]3з '!S6 -> 887
A7: ='1з'!A7 -> Sava | B7: ='[1]3з '!B7 -> 0 | C7: ='[1]3з '!C7 -> 0 | D7: ='[1]3з '!D7 -> 0 | E7: ='[1]3з '!E7 -> 0 | F7: ='[1]3з '!F7 -> 2467 | G7: ='[1]3з '!G7 -> 0 | H7: ='[1]3з '!H7 -> 0 | I7: ='[1]3з '!I7 -> 22796 | ... S7: ='[1]3з '!S7 -> 29943
A8: Viner | B8: ='[1]3з '!B8 -> 0 | C8: ='[1]3з '!C8 -> 0 | D8: ='[1]3з '!D8 -> 0 | E8: ='[1]3з '!E8 -> 0 | F8: ='[1]3з '!F8 -> 0 | G8: ='[1]3з '!G8 -> 0 | H8: ='[1]3з '!H8 -> 0 | I8: ='[1]3з '!I8 -> 0 | ... S8: ='[1]3з '!S8 -> 947
A9: ='1з'!A9 -> Unika | B9: ='[1]3з '!B9 -> 0 | C9: ='[1]3з '!C9 -> 0 | D9: ='[1]3з '!D9 -> 33087 | E9: ='[1]3з '!E9 -> 0 | F9: ='[1]3з '!F9 -> 0 | G9: ='[1]3з '!G9 -> 29684 | H9: ='[1]3з '!H9 -> 546 | I9: ='[1]3з '!I9 -> 0 | ... S9: ='[1]3з '!S9 -> 63317
A10: ='1з'!A10 -> Halk | B10: ='[1]3з '!B10 -> 0 | C10: ='[1]3з '!C10 -> 0 | D10: ='[1]3з '!D10 -> 0 | E10: ='[1]3з '!E10 -> 0 | F10: ='[1]3з '!F10 -> 0 | G10: ='[1]3з '!G10 -> 0 | H10: ='[1]3з '!H10 -> 0 | I10: ='[1]3з '!I10 -> 0 | ... S10: ='[1]3з '!S10 -> 13121
A11: ='1з'!A11 -> Kroacija jojetë | B11: ='[1]3з '!B11 -> 0 | C11: ='[1]3з '!C11 -> 0 | D11: ='[1]3з '!D11 -> 0 | E11: ='[1]3з '!E11 -> 0 | F11: ='[1]3з '!F11 -> 0 | G11: ='[1]3з '!G11 -> 0 | H11: ='[1]3з '!H11 -> 0 | I11: ='[1]3з '!I11 -> 0 | ... S11: ='[1]3з '!S11 -> 27018
A12: ='1з'!A12 -> Osiguritelna polisa | B12: ='[1]3з '!B12 -> 0 | C12: ='[1]3з '!C12 -> 0 | D12: ='[1]3з '!D12 -> 0 | E12: ='[1]3з '!E12 -> 0 | F12: ='[1]3з '!F12 -> 0 | G12: ='[1]3з '!G12 -> 0 | H12: ='[1]3з '!H12 -> 0 | I12: ='[1]3з '!I12 -> 0 | ... S12: ='[1]3з '!S12 -> 8807
A13: ='1з'!A13 -> Jetë | B13: ='[1]3з '!B13 -> 2018 | C13: ='[1]3з '!C13 -> 3604 | D13: ='[1]3з '!D13 -> 1613 | E13: ='[1]3з '!E13 -> 55878 | F13: ='[1]3з '!F13 -> 41 | G13: ='[1]3з '!G13 -> 0 | H13: ='[1]3з '!H13 -> 5698 | I13: ='[1]3з '!I13 -> 38287 | ... S13: ='[1]3з '!S13 -> 205565
A14: ='1з'!A14 -> Kroacija jetë | B14: ='[1]3з '!B14 -> 50 | C14: ='[1]3з '!C14 -> 0 | D14: ='[1]3з '!D14 -> 0 | E14: ='[1]3з '!E14 -> 0 | F14: ='[1]3з '!F14 -> 0 | G14: ='[1]3з '!G14 -> 0 | H14: ='[1]3з '!H14 -> 0 | I14: ='[1]3з '!I14 -> 38287 | ... S14: ='[1]3з '!S14 -> 45028
A15: ='1з'!A15 -> Grave | B15: ='[1]3з '!B15 -> 0 | C15: ='[1]3з '!C15 -> 0 | D15: ='[1]3з '!D15 -> 0 | E15: ='[1]3з '!E15 -> 55878 | F15: ='[1]3з '!F15 -> 0 | G15: ='[1]3з '!G15 -> 0 | H15: ='[1]3з '!H15 -> 0 | I15: ='[1]3з '!I15 -> 0 | ... S15: ='[1]3з '!S15 -> 90919
A16: ='1з'!A16 -> Viner jetë | B16: ='[1]3з '!B16 -> 1968 | C16: ='[1]3з '!C16 -> 3604 | D16: ='[1]3з '!D16 -> 0 | E16: ='[1]3з '!E16 -> 0 | F16: ='[1]3з '!F16 -> 0 | G16: ='[1]3з '!G16 -> 0 | H16: ='[1]3з '!H16 -> 0 | I16: ='[1]3з '!I16 -> 0 | ... S16: ='[1]3з '!S16 -> 14344
A17: ='1з'!A17 -> Unika jetë | B17: ='[1]3з '!B17 -> 0 | C17: ='[1]3з '!C17 -> 0 | D17: ='[1]3з '!D17 -> 1613 | E17: ='[1]3з '!E17 -> 0 | F17: ='[1]3з '!F17 -> 41 | G17: ='[1]3з '!G17 -> 0 | H17: ='[1]3з '!H17 -> 5698 | I17: ='[1]3з '!I17 -> 0 | ... S17: ='[1]3з '!S17 -> 46093
A18: ='1з'!A18 -> Triglav jetë | B18: ='[1]3з '!B18 -> 0 | C18: ='[1]3з '!C18 -> 0 | D18: ='[1]3з '!D18 -> 0 | E18: ='[1]3з '!E18 -> 0 | F18: ='[1]3з '!F18 -> 0 | G18: ='[1]3з '!G18 -> 0 | H18: ='[1]3з '!H18 -> 0 | I18: ='[1]3з '!I18 -> 0 | ... S18: ='[1]3з '!S18 -> 9181
A19: ='1з'!A19 -> Gjithësej | B19: ='[1]3з '!B19 -> 100480 | C19: ='[1]3з '!C19 -> 81839 | D19: ='[1]3з '!D19 -> 34700 | E19: ='[1]3з '!E19 -> 55878 | F19: ='[1]3з '!F19 -> 2508 | G19: ='[1]3з '!G19 -> 29684 | H19: ='[1]3з '!H19 -> 6244 | I19: ='[1]3з '!I19 -> 61083 | ... S19: ='[1]3з '!S19 -> 557623

Sheet 4з
A1: Tabela 4. Primi i shkruar bruto (sipas klasave të sigurimeve )
S2: 000 mkd
A3: Klasa e sigurimit | B3: Aktiva | C3: Trend Mr | D3: Lajon ins | E3: Safe life | F3: Fortis pro | G3: Rea insurance group | H3: Lajf Vizion | I3: NLB banka | J3: Vash prijatel | K3: Sparkasse banka | L3: Family Partner | M3: Halk Banka | N3: Stopanska Banka | O3: Komercijalna Banka | P3: Moe Osiguruvanje | Q3: UNI bank | R3: TTK bank | S3: Gjithësej
A4: 01. Sigurimi i aksidenteve | B4: ='[2]4'!B3 -> 9800 | C4: ='[2]4'!C3 -> 8791 | D4: ='[2]4'!D3 -> 2331 | E4: ='[2]4'!E3 -> 0 | F4: ='[2]4'!F3 -> 319 | G4: ='[2]4'!G3 -> 934 | H4: ='[2]4'!H3 -> 22 | I4: ='[2]4'!I3 -> 11277 | ... S4: ='[2]4'!S3 -> 54610
A5: 02. Sigurimi shëndetësor | B5: ='[2]4'!B4 -> 2588 | C5: ='[2]4'!C4 -> 0 | D5: ='[2]4'!D4 -> 0 | E5: ='[2]4'!E4 -> 0 | F5: ='[2]4'!F4 -> 43 | G5: ='[2]4'!G4 -> 0 | H5: ='[2]4'!H4 -> 221 | I5: ='[2]4'!I4 -> 0 | ... S5: ='[2]4'!S4 -> 2981
A6: 03. Mjetet motorike kasko | B6: ='[2]4'!B5 -> 13231 | C6: ='[2]4'!C5 -> 6078 | D6: ='[2]4'!D5 -> 2729 | E6: ='[2]4'!E5 -> 0 | F6: ='[2]4'!F5 -> 671 | G6: ='[2]4'!G5 -> 2919 | H6: ='[2]4'!H5 -> 56 | I6: ='[2]4'!I5 -> 684 | ... S6: ='[2]4'!S5 -> 29210
A7: 06. Mjetet lundruese kasko | B7: ='[2]4'!B8 -> 0 | C7: ='[2]4'!C8 -> 0 | D7: ='[2]4'!D8 -> 0 | E7: ='[2]4'!E8 -> 0 | F7: ='[2]4'!F8 -> 0 | G7: ='[2]4'!G8 -> 0 | H7: ='[2]4'!H8 -> 0 | I7: ='[2]4'!I8 -> 0 | ... S7: ='[2]4'!S8 -> 6
A8: 07. Kargo | B8: ='[2]4'!B9 -> 417 | C8: ='[2]4'!C9 -> 4482 | D8: ='[2]4'!D9 -> 133 | E8: ='[2]4'!E9 -> 0 | F8: ='[2]4'!F9 -> 5 | G8: ='[2]4'!G9 -> 108 | H8: ='[2]4'!H9 -> 0 | I8: ='[2]4'!I9 -> 0 | ... S8: ='[2]4'!S9 -> 5184
A9: 08. Prona nga zjarri dhe rreziqe tjera | B9: ='[2]4'!B10 -> 7597 | C9: ='[2]4'!C10 -> 9372 | D9: ='[2]4'!D10 -> 520 | E9: ='[2]4'!E10 -> 0 | F9: ='[2]4'!F10 -> 90 | G9: ='[2]4'!G10 -> 292 | H9: ='[2]4'!H10 -> 25 | I9: ='[2]4'!I10 -> 4035 | ... S9: ='[2]4'!S10 -> 47619
A10: 09. Pronat tjera | B10: ='[2]4'!B11 -> 18864 | C10: ='[2]4'!C11 -> 10036 | D10: ='[2]4'!D11 -> 351 | E10: ='[2]4'!E11 -> 0 | F10: ='[2]4'!F11 -> 189 | G10: ='[2]4'!G11 -> 183 | H10: ='[2]4'!H11 -> 19 | I10: ='[2]4'!I11 -> 6060 | ... S10: ='[2]4'!S11 -> 59233
A11: 10. AP (gjithsej) | B11: ='[2]4'!B12 -> 40728 | C11: ='[2]4'!C12 -> 37393 | D11: ='[2]4'!D12 -> 26200 | E11: ='[2]4'!E12 -> 0 | F11: ='[2]4'!F12 -> 1033 | G11: ='[2]4'!G12 -> 24983 | H11: ='[2]4'!H12 -> 178 | I11: ='[2]4'!I12 -> 493 | ... S11: ='[2]4'!S12 -> 142324
A12: 12. Përgjegjësia nga mjete lundruese | B12: ='[2]4'!B14 -> 24 | C12: ='[2]4'!C14 -> 25 | D12: ='[2]4'!D14 -> 7 | E12: ='[2]4'!E14 -> 0 | F12: ='[2]4'!F14 -> 0 | G12: ='[2]4'!G14 -> 0 | H12: ='[2]4'!H14 -> 0 | I12: ='[2]4'!I14 -> 0 | ... S12: ='[2]4'!S14 -> 56
A13: 13. Përgjegjësia e përgjithshme | B13: ='[2]4'!B15 -> 3212 | C13: ='[2]4'!C15 -> 1261 | D13: ='[2]4'!D15 -> 438 | E13: ='[2]4'!E15 -> 0 | F13: ='[2]4'!F15 -> 68 | G13: ='[2]4'!G15 -> 45 | H13: ='[2]4'!H15 -> 15 | I13: ='[2]4'!I15 -> 6 | ... S13: ='[2]4'!S15 -> 5556
A14: 14. Kredia | B14: ='[2]4'!B16 -> 0 | C14: ='[2]4'!C16 -> 0 | D14: ='[2]4'!D16 -> 0 | E14: ='[2]4'!E16 -> 0 | F14: ='[2]4'!F16 -> 0 | G14: ='[2]4'!G16 -> 0 | H14: ='[2]4'!H16 -> 0 | I14: ='[2]4'!I16 -> 0 | ... S14: ='[2]4'!S16 -> 725
A15: 16. Humbjet financiare | B15: ='[2]4'!B18 -> 423 | C15: ='[2]4'!C18 -> 87 | D15: ='[2]4'!D18 -> 0 | E15: ='[2]4'!E18 -> 0 | F15: ='[2]4'!F18 -> 0 | G15: ='[2]4'!G18 -> 0 | H15: ='[2]4'!H18 -> 0 | I15: ='[2]4'!I18 -> 0 | ... S15: ='[2]4'!S18 -> 510
A16: 18. Ndihma turistike | B16: ='[2]4'!B20 -> 1578 | C16: ='[2]4'!C20 -> 710 | D16: ='[2]4'!D20 -> 378 | E16: ='[2]4'!E20 -> 0 | F16: ='[2]4'!F20 -> 49 | G16: ='[2]4'!G20 -> 220 | H16: ='[2]4'!H20 -> 10 | I16: ='[2]4'!I20 -> 241 | ... S16: ='[2]4'!S20 -> 4044
A17: 19. Jeta | B17: ='[2]4'!B21 -> 1999 | C17: ='[2]4'!C21 -> 3455 | D17: ='[2]4'!D21 -> 1506 | E17: ='[2]4'!E21 -> 55878 | F17: ='[2]4'!F21 -> 0 | G17: ='[2]4'!G21 -> 0 | H17: ='[2]4'!H21 -> 3718 | I17: ='[2]4'!I21 -> 38287 | ... S17: ='[2]4'!S21 -> 203269
A18: 21. Sigurimi i jetës kur rreziku investues bie mbi të siguruarit | B18: ='[2]4'!B23 -> 19 | C18: ='[2]4'!C23 -> 149 | D18: ='[2]4'!D23 -> 107 | E18: ='[2]4'!E23 -> 0 | F18: ='[2]4'!F23 -> 41 | G18: ='[2]4'!G23 -> 0 | H18: ='[2]4'!H23 -> 1980 | I18: ='[2]4'!I23 -> 0 | ... S18: ='[2]4'!S23 -> 2296
A19: ='2з '!A19 -> Gjithësej | B19: ='[1]4з'!B19 -> 100480 | C19: ='[1]4з'!C19 -> 81839 | D19: ='[1]4з'!D19 -> 34700 | E19: ='[1]4з'!E19 -> 55878 | F19: ='[1]4з'!F19 -> 2508 | G19: ='[1]4з'!G19 -> 29684 | H19: ='[1]4з'!H19 -> 6244 | I19: ='[1]4з'!I19 -> 61083 | ... S19: ='[1]4з'!S19 -> 557623
