Workbook

Sheet 0 
E5: AGJENCIA E MBIKËQYRJES SË SIGURIMEVE
A9: Republika e Maqedonisë së Veriut
A15: Raporti për volumin dhe përmbajtjen e veprimtarisë
A16: të Shoqërive për Brokerim në Sigurime
A17: për periudhën 1.1-30.9.2021
D35: Shkup, 2021
A39: Shpjegim: Të dhënat janë dhëna nga shoqëritë e sigurimeve gjatë njoftimeve të rregullta në përputhje me nenin 151 të Ligjit për Mbikqyrjen e sigurimeve (“Gazeta Zyrtare e Republikës së Maqedonisë” nr. 2 27/02, 84/02, 98/02, 33/04, 88/05, 79/07, 8/08, 88/08, 56/09, 67/10, 44/11, 188/13, 43/14, 112/14, 153/15, 192/15, 23/16, 83/18 и 198/18) dhe"Gazeta Zyrtare e Republikës së Maqedonisë së Veriut" nr. 101/2019 dhe 31/2020). Strukturat drejtuese janë përgjegjëse për paraqitjen objektive të të dhënave. Kursi i këmbimit në 30.6.2021: 1 EUR = 61.6948 MKD

Sheet 1
A1: Tabela 1. Numri i kontratave (sipas shoqërive të sigurimeve)
A3: Ndërmjetësim në kontraktimin për sigurime | B3: Makedonija | C3: Triglav | D3: Sava | E3: Evroins | F3: Viner | G3: Eurolink | H3: Grave jojetë | I3: Unika | J3: Halk | K3: Kroacija jojetë | L3: Osiguritelna polisa | M3: Kroacia jetë | N3: Grave | O3: Viner jetë | P3: Unika jetë | Q3: Triglav jetë | R3: Gjithësej
A4: ='[1]1'!A4 -> AMG Premium | B4: ='[2]1T'!C2 -> 5 | C4: ='[2]1T'!D2 -> 0 | D4: ='[2]1T'!E2 -> 0 | E4: ='[2]1T'!F2 -> 0 | F4: ='[2]1T'!G2 -> 0 | G4: ='[2]1T'!H2 -> 0 | H4: ='[2]1T'!I2 -> 0 | I4: ='[2]1T'!J2 -> 0 | ... L4: ='[2]1T'!M2 -> 0 | M4: ='[2]1T'!O2 -> 0 | N4: ='[2]1T'!P2 -> 0 | O4: ='[2]1T'!Q2 -> 0 | P4: ='[2]1T'!R2 -> 0 | Q4: ='[2]1T'!S2 -> 0 | R4: ='[2]1T'!B2 -> 9
A5: ='[1]1'!A5 -> A-tim | B5: ='[2]1T'!C3 -> 0 | C5: ='[2]1T'!D3 -> 4 | D5: ='[2]1T'!E3 -> 0 | E5: ='[2]1T'!F3 -> 66 | F5: ='[2]1T'!G3 -> 0 | G5: ='[2]1T'!H3 -> 45 | H5: ='[2]1T'!I3 -> 0 | I5: ='[2]1T'!J3 -> 1 | ... L5: ='[2]1T'!M3 -> 0 | M5: ='[2]1T'!O3 -> 6 | N5: ='[2]1T'!P3 -> 0 | O5: ='[2]1T'!Q3 -> 0 | P5: ='[2]1T'!R3 -> 0 | Q5: ='[2]1T'!S3 -> 0 | R5: ='[2]1T'!B3 -> 128
A6: ='[1]1'!A6 -> VFP | B6: ='[2]1T'!C4 -> 457 | C6: ='[2]1T'!D4 -> 5363 | D6: ='[2]1T'!E4 -> 2307 | E6: ='[2]1T'!F4 -> 192 | F6: ='[2]1T'!G4 -> 473 | G6: ='[2]1T'!H4 -> 908 | H6: ='[2]1T'!I4 -> 118 | I6: ='[2]1T'!J4 -> 187 | ... L6: ='[2]1T'!M4 -> 4619 | M6: ='[2]1T'!O4 -> 187 | N6: ='[2]1T'!P4 -> 265 | O6: ='[2]1T'!Q4 -> 618 | P6: ='[2]1T'!R4 -> 273 | Q6: ='[2]1T'!S4 -> 934 | R6: ='[2]1T'!B4 -> 21237
A7: ='[1]1'!A7 -> Delta- ins | B7: ='[2]1T'!C5 -> 1 | C7: ='[2]1T'!D5 -> 384 | D7: ='[2]1T'!E5 -> 14 | E7: ='[2]1T'!F5 -> 131 | F7: ='[2]1T'!G5 -> 26 | G7: ='[2]1T'!H5 -> 21 | H7: ='[2]1T'!I5 -> 4 | I7: ='[2]1T'!J5 -> 348 | ... L7: ='[2]1T'!M5 -> 23 | M7: ='[2]1T'!O5 -> 3 | N7: ='[2]1T'!P5 -> 0 | O7: ='[2]1T'!Q5 -> 2 | P7: ='[2]1T'!R5 -> 2 | Q7: ='[2]1T'!S5 -> 2 | R7: ='[2]1T'!B5 -> 1160
A8: ='[1]1'!A8 -> Euro eksperts | B8: ='[2]1T'!C6 -> 42 | C8: ='[2]1T'!D6 -> 683 | D8: ='[2]1T'!E6 -> 123 | E8: ='[2]1T'!F6 -> 0 | F8: ='[2]1T'!G6 -> 15 | G8: ='[2]1T'!H6 -> 14 | H8: ='[2]1T'!I6 -> 0 | I8: ='[2]1T'!J6 -> 10 | ... L8: ='[2]1T'!M6 -> 1 | M8: ='[2]1T'!O6 -> 0 | N8: ='[2]1T'!P6 -> 0 | O8: ='[2]1T'!Q6 -> 0 | P8: ='[2]1T'!R6 -> 0 | Q8: ='[2]1T'!S6 -> 0 | R8: ='[2]1T'!B6 -> 1170
A9: ='[1]1'!A9 -> Euromak | B9: ='[2]1T'!C7 -> 2 | C9: ='[2]1T'!D7 -> 55 | D9: ='[2]1T'!E7 -> 4 | E9: ='[2]1T'!F7 -> 0 | F9: ='[2]1T'!G7 -> 5 | G9: ='[2]1T'!H7 -> 3 | H9: ='[2]1T'!I7 -> 0 | I9: ='[2]1T'!J7 -> 81 | ... L9: ='[2]1T'!M7 -> 1 | M9: ='[2]1T'!O7 -> 0 | N9: ='[2]1T'!P7 -> 0 | O9: ='[2]1T'!Q7 -> 0 | P9: ='[2]1T'!R7 -> 10 | Q9: ='[2]1T'!S7 -> 0 | R9: ='[2]1T'!B7 -> 193
A10: ='[1]1'!A10 -> In- broker | B10: ='[2]1T'!C8 -> 1370 | C10: ='[2]1T'!D8 -> 724 | D10: ='[2]1T'!E8 -> 66 | E10: ='[2]1T'!F8 -> 2 | F10: ='[2]1T'!G8 -> 4 | G10: ='[2]1T'!H8 -> 60 | H10: ='[2]1T'!I8 -> 0 | I10: ='[2]1T'!J8 -> 528 | ... L10: ='[2]1T'!M8 -> 129 | M10: ='[2]1T'!O8 -> 0 | N10: ='[2]1T'!P8 -> 0 | O10: ='[2]1T'!Q8 -> 3 | P10: ='[2]1T'!R8 -> 8 | Q10: ='[2]1T'!S8 -> 0 | R10: ='[2]1T'!B8 -> 3252
A11: ='[1]1'!A11 -> JDB Broker | B11: ='[2]1T'!C9 -> 4 | C11: ='[2]1T'!D9 -> 444 | D11: ='[2]1T'!E9 -> 22 | E11: ='[2]1T'!F9 -> 17 | F11: ='[2]1T'!G9 -> 295 | G11: ='[2]1T'!H9 -> 18 | H11: ='[2]1T'!I9 -> 18 | I11: ='[2]1T'!J9 -> 7 | ... L11: ='[2]1T'!M9 -> 22 | M11: ='[2]1T'!O9 -> 0 | N11: ='[2]1T'!P9 -> 0 | O11: ='[2]1T'!Q9 -> 0 | P11: ='[2]1T'!R9 -> 0 | Q11: ='[2]1T'!S9 -> 1 | R11: ='[2]1T'!B9 -> 1697
A12: ='[1]1'!A12 -> Legra | B12: ='[2]1T'!C10 -> 86 | C12: ='[2]1T'!D10 -> 28 | D12: ='[2]1T'!E10 -> 1 | E12: ='[2]1T'!F10 -> 0 | F12: ='[2]1T'!G10 -> 5 | G12: ='[2]1T'!H10 -> 41 | H12: ='[2]1T'!I10 -> 0 | I12: ='[2]1T'!J10 -> 139 | ... L12: ='[2]1T'!M10 -> 0 | M12: ='[2]1T'!O10 -> 0 | N12: ='[2]1T'!P10 -> 0 | O12: ='[2]1T'!Q10 -> 2 | P12: ='[2]1T'!R10 -> 0 | Q12: ='[2]1T'!S10 -> 0 | R12: ='[2]1T'!B10 -> 310
A13: ='[1]1'!A13 -> Mobiliti | B13: ='[2]1T'!C11 -> 3772 | C13: ='[2]1T'!D11 -> 5586 | D13: ='[2]1T'!E11 -> 1584 | E13: ='[2]1T'!F11 -> 3062 | F13: ='[2]1T'!G11 -> 3618 | G13: ='[2]1T'!H11 -> 4312 | H13: ='[2]1T'!I11 -> 454 | I13: ='[2]1T'!J11 -> 1057 | ... L13: ='[2]1T'!M11 -> 1045 | M13: ='[2]1T'!O11 -> 24 | N13: ='[2]1T'!P11 -> 0 | O13: ='[2]1T'!Q11 -> 0 | P13: ='[2]1T'!R11 -> 0 | Q13: ='[2]1T'!S11 -> 497 | R13: ='[2]1T'!B11 -> 29975
A14: ='[1]1'!A14 -> Nashe osiguruvanje | B14: ='[2]1T'!C12 -> 187 | C14: ='[2]1T'!D12 -> 252 | D14: ='[2]1T'!E12 -> 234 | E14: ='[2]1T'!F12 -> 7 | F14: ='[2]1T'!G12 -> 36 | G14: ='[2]1T'!H12 -> 460 | H14: ='[2]1T'!I12 -> 0 | I14: ='[2]1T'!J12 -> 30 | ... L14: ='[2]1T'!M12 -> 28 | M14: ='[2]1T'!O12 -> 9 | N14: ='[2]1T'!P12 -> 0 | O14: ='[2]1T'!Q12 -> 0 | P14: ='[2]1T'!R12 -> 2 | Q14: ='[2]1T'!S12 -> 0 | R14: ='[2]1T'!B12 -> 1324
A15: ='[1]1'!A15 -> Polisa plus | B15: ='[2]1T'!C13 -> 60 | C15: ='[2]1T'!D13 -> 1092 | D15: ='[2]1T'!E13 -> 459 | E15: ='[2]1T'!F13 -> 2011 | F15: ='[2]1T'!G13 -> 3080 | G15: ='[2]1T'!H13 -> 129 | H15: ='[2]1T'!I13 -> 0 | I15: ='[2]1T'!J13 -> 301 | ... L15: ='[2]1T'!M13 -> 1710 | M15: ='[2]1T'!O13 -> 1 | N15: ='[2]1T'!P13 -> 2268 | O15: ='[2]1T'!Q13 -> 2 | P15: ='[2]1T'!R13 -> 0 | Q15: ='[2]1T'!S13 -> 43 | R15: ='[2]1T'!B13 -> 13276
... A43: ='[1]1'!A43 -> VEGA Osiguruvanje | B43: ='[2]1T'!C41 -> 1 | C43: ='[2]1T'!D41 -> 515 | D43: ='[2]1T'!E41 -> 179 | E43: ='[2]1T'!F41 -> 8 | F43: ='[2]1T'!G41 -> 36 | G43: ='[2]1T'!H41 -> 10 | H43: ='[2]1T'!I41 -> 11 | I43: ='[2]1T'!J41 -> 20 | ... L43: ='[2]1T'!M41 -> 42 | M43: ='[2]1T'!O41 -> 3 | N43: ='[2]1T'!P41 -> 0 | O43: ='[2]1T'!Q41 -> 0 | P43: ='[2]1T'!R41 -> 1 | Q43: ='[2]1T'!S41 -> 19 | R43: ='[2]1T'!B41 -> 1507
A44: Gjithësej | B44: ='[2]1T'!C42 -> 15804 | C44: ='[2]1T'!D42 -> 55228 | D44: ='[2]1T'!E42 -> 15270 | E44: ='[2]1T'!F42 -> 29856 | F44: ='[2]1T'!G42 -> 37949 | G44: ='[2]1T'!H42 -> 20006 | H44: ='[2]1T'!I42 -> 17715 | I44: ='[2]1T'!J42 -> 34069 | ... L44: ='[2]1T'!M42 -> 19210 | M44: ='[2]1T'!O42 -> 321 | N44: ='[2]1T'!P42 -> 3057 | O44: ='[2]1T'!Q42 -> 669 | P44: ='[2]1T'!R42 -> 605 | Q44: ='[2]1T'!S42 -> 2353 | R44: ='[2]1T'!B42 -> 311395

Sheet 2
A1: Tabela 2. Numri i kontratave (sipas klasave të sigurimeve)
A3: Ndërmjetësim në kontraktimin për sigurime | B3: 01. Aksidente | C3: 02. Sigurimi shëndetësor | D3: 03. Kasko automjete motorike | E3: 06. Kasko objekte lundruese | F3: 07. Mallra në transport (Kargo) | G3: 08. Prona nga zjarri dhe fatkeqësi natyrore | H3: 09. Sigurime të tjera të pronës | I3: 10. Përgjegjësisë nga përdorimi i mjeteve motorike (gjithësej) | J3: 11. Përgjegjësia mjete ajrore | K3: 12. Përgjegjësia objekte lundruese | L3: 13.Përgjegjësia e përgjithshme | M3: 14. Kredite | N3: 15. Garanci | O3: 16. Humbje financiare | P3: 18. Asistencë turistike | Q3: 19. Jetë | R3: 21. Sigurimi i jetës kur rreziku nga investimet mbartet në kurriz të të siguruarit | S3: Gjithësej
A4: ='1'!A4 -> AMG Premium | B4: ='[2]2T'!B2 -> 0 | C4: ='[2]2T'!C2 -> 0 | D4: ='[2]2T'!D2 -> 0 | E4: ='[2]2T'!G2 -> 0 | F4: ='[2]2T'!H2 -> 0 | G4: ='[2]2T'!I2 -> 5 | H4: ='[2]2T'!J2 -> 0 | I4: ='[2]2T'!K2 -> 4 | J4: ='[2]2T'!L2 -> 0 | K4: ='[2]2T'!M2 -> 0 | L4: ='[2]2T'!N2 -> 0 | ... O4: ='[2]2T'!Q2 -> 0 | P4: ='[2]2T'!S2 -> 0 | Q4: ='[2]2T'!T2 -> 0 | R4: ='[2]2T'!V2 -> 0 | S4: ='[2]2T'!Y2 -> 9
A5: ='1'!A5 -> A-tim | B5: ='[2]2T'!B3 -> 48 | C5: ='[2]2T'!C3 -> 0 | D5: ='[2]2T'!D3 -> 12 | E5: ='[2]2T'!G3 -> 0 | F5: ='[2]2T'!H3 -> 0 | G5: ='[2]2T'!I3 -> 5 | H5: ='[2]2T'!J3 -> 12 | I5: ='[2]2T'!K3 -> 54 | J5: ='[2]2T'!L3 -> 0 | K5: ='[2]2T'!M3 -> 0 | L5: ='[2]2T'!N3 -> 4 | ... O5: ='[2]2T'!Q3 -> 0 | P5: ='[2]2T'!S3 -> 28 | Q5: ='[2]2T'!T3 -> 6 | R5: ='[2]2T'!V3 -> 0 | S5: ='[2]2T'!Y3 -> 128
A6: ='1'!A6 -> VFP | B6: ='[2]2T'!B4 -> 4853 | C6: ='[2]2T'!C4 -> 2508 | D6: ='[2]2T'!D4 -> 876 | E6: ='[2]2T'!G4 -> 12 | F6: ='[2]2T'!H4 -> 33 | G6: ='[2]2T'!I4 -> 1654 | H6: ='[2]2T'!J4 -> 1925 | I6: ='[2]2T'!K4 -> 6925 | J6: ='[2]2T'!L4 -> 0 | K6: ='[2]2T'!M4 -> 24 | L6: ='[2]2T'!N4 -> 1628 | ... O6: ='[2]2T'!Q4 -> 7 | P6: ='[2]2T'!S4 -> 5754 | Q6: ='[2]2T'!T4 -> 1144 | R6: ='[2]2T'!V4 -> 1133 | S6: ='[2]2T'!Y4 -> 21237
A7: ='1'!A7 -> Delta- ins | B7: ='[2]2T'!B5 -> 12 | C7: ='[2]2T'!C5 -> 0 | D7: ='[2]2T'!D5 -> 63 | E7: ='[2]2T'!G5 -> 0 | F7: ='[2]2T'!H5 -> 22 | G7: ='[2]2T'!I5 -> 107 | H7: ='[2]2T'!J5 -> 139 | I7: ='[2]2T'!K5 -> 490 | J7: ='[2]2T'!L5 -> 1 | K7: ='[2]2T'!M5 -> 0 | L7: ='[2]2T'!N5 -> 11 | ... O7: ='[2]2T'!Q5 -> 0 | P7: ='[2]2T'!S5 -> 306 | Q7: ='[2]2T'!T5 -> 9 | R7: ='[2]2T'!V5 -> 0 | S7: ='[2]2T'!Y5 -> 1160
A8: ='1'!A8 -> Euro eksperts | B8: ='[2]2T'!B6 -> 82 | C8: ='[2]2T'!C6 -> 93 | D8: ='[2]2T'!D6 -> 96 | E8: ='[2]2T'!G6 -> 0 | F8: ='[2]2T'!H6 -> 5 | G8: ='[2]2T'!I6 -> 52 | H8: ='[2]2T'!J6 -> 163 | I8: ='[2]2T'!K6 -> 453 | J8: ='[2]2T'!L6 -> 0 | K8: ='[2]2T'!M6 -> 0 | L8: ='[2]2T'!N6 -> 83 | ... O8: ='[2]2T'!Q6 -> 1 | P8: ='[2]2T'!S6 -> 275 | Q8: ='[2]2T'!T6 -> 0 | R8: ='[2]2T'!V6 -> 0 | S8: ='[2]2T'!Y6 -> 1170
A9: ='1'!A9 -> Euromak | B9: ='[2]2T'!B7 -> 40 | C9: ='[2]2T'!C7 -> 21 | D9: ='[2]2T'!D7 -> 25 | E9: ='[2]2T'!G7 -> 0 | F9: ='[2]2T'!H7 -> 6 | G9: ='[2]2T'!I7 -> 18 | H9: ='[2]2T'!J7 -> 19 | I9: ='[2]2T'!K7 -> 66 | J9: ='[2]2T'!L7 -> 0 | K9: ='[2]2T'!M7 -> 0 | L9: ='[2]2T'!N7 -> 26 | ... O9: ='[2]2T'!Q7 -> 2 | P9: ='[2]2T'!S7 -> 0 | Q9: ='[2]2T'!T7 -> 0 | R9: ='[2]2T'!V7 -> 10 | S9: ='[2]2T'!Y7 -> 193
A10: ='1'!A10 -> In- broker | B10: ='[2]2T'!B8 -> 374 | C10: ='[2]2T'!C8 -> 72 | D10: ='[2]2T'!D8 -> 447 | E10: ='[2]2T'!G8 -> 0 | F10: ='[2]2T'!H8 -> 55 | G10: ='[2]2T'!I8 -> 824 | H10: ='[2]2T'!J8 -> 265 | I10: ='[2]2T'!K8 -> 1150 | J10: ='[2]2T'!L8 -> 0 | K10: ='[2]2T'!M8 -> 0 | L10: ='[2]2T'!N8 -> 38 | ... O10: ='[2]2T'!Q8 -> 0 | P10: ='[2]2T'!S8 -> 358 | Q10: ='[2]2T'!T8 -> 11 | R10: ='[2]2T'!V8 -> 0 | S10: ='[2]2T'!Y8 -> 3252
A11: ='1'!A11 -> JDB Broker | B11: ='[2]2T'!B9 -> 443 | C11: ='[2]2T'!C9 -> 23 | D11: ='[2]2T'!D9 -> 112 | E11: ='[2]2T'!G9 -> 0 | F11: ='[2]2T'!H9 -> 2 | G11: ='[2]2T'!I9 -> 26 | H11: ='[2]2T'!J9 -> 82 | I11: ='[2]2T'!K9 -> 824 | J11: ='[2]2T'!L9 -> 0 | K11: ='[2]2T'!M9 -> 0 | L11: ='[2]2T'!N9 -> 262 | ... O11: ='[2]2T'!Q9 -> 0 | P11: ='[2]2T'!S9 -> 336 | Q11: ='[2]2T'!T9 -> 1 | R11: ='[2]2T'!V9 -> 0 | S11: ='[2]2T'!Y9 -> 1697
A12: ='1'!A12 -> Legra | B12: ='[2]2T'!B10 -> 73 | C12: ='[2]2T'!C10 -> 0 | D12: ='[2]2T'!D10 -> 14 | E12: ='[2]2T'!G10 -> 0 | F12: ='[2]2T'!H10 -> 1 | G12: ='[2]2T'!I10 -> 27 | H12: ='[2]2T'!J10 -> 54 | I12: ='[2]2T'!K10 -> 156 | J12: ='[2]2T'!L10 -> 0 | K12: ='[2]2T'!M10 -> 1 | L12: ='[2]2T'!N10 -> 31 | ... O12: ='[2]2T'!Q10 -> 2 | P12: ='[2]2T'!S10 -> 41 | Q12: ='[2]2T'!T10 -> 2 | R12: ='[2]2T'!V10 -> 0 | S12: ='[2]2T'!Y10 -> 310
A13: ='1'!A13 -> Mobiliti | B13: ='[2]2T'!B11 -> 11178 | C13: ='[2]2T'!C11 -> 6 | D13: ='[2]2T'!D11 -> 387 | E13: ='[2]2T'!G11 -> 2 | F13: ='[2]2T'!H11 -> 7 | G13: ='[2]2T'!I11 -> 28 | H13: ='[2]2T'!J11 -> 95 | I13: ='[2]2T'!K11 -> 26065 | J13: ='[2]2T'!L11 -> 0 | K13: ='[2]2T'!M11 -> 0 | L13: ='[2]2T'!N11 -> 277 | ... O13: ='[2]2T'!Q11 -> 0 | P13: ='[2]2T'!S11 -> 2776 | Q13: ='[2]2T'!T11 -> 521 | R13: ='[2]2T'!V11 -> 0 | S13: ='[2]2T'!Y11 -> 29975
A14: ='1'!A14 -> Nashe osiguruvanje | B14: ='[2]2T'!B12 -> 368 | C14: ='[2]2T'!C12 -> 76 | D14: ='[2]2T'!D12 -> 110 | E14: ='[2]2T'!G12 -> 0 | F14: ='[2]2T'!H12 -> 5 | G14: ='[2]2T'!I12 -> 142 | H14: ='[2]2T'!J12 -> 128 | I14: ='[2]2T'!K12 -> 439 | J14: ='[2]2T'!L12 -> 0 | K14: ='[2]2T'!M12 -> 0 | L14: ='[2]2T'!N12 -> 40 | ... O14: ='[2]2T'!Q12 -> 0 | P14: ='[2]2T'!S12 -> 325 | Q14: ='[2]2T'!T12 -> 11 | R14: ='[2]2T'!V12 -> 0 | S14: ='[2]2T'!Y12 -> 1324
A15: ='1'!A15 -> Polisa plus | B15: ='[2]2T'!B13 -> 6704 | C15: ='[2]2T'!C13 -> 1 | D15: ='[2]2T'!D13 -> 748 | E15: ='[2]2T'!G13 -> 0 | F15: ='[2]2T'!H13 -> 6 | G15: ='[2]2T'!I13 -> 13 | H15: ='[2]2T'!J13 -> 23 | I15: ='[2]2T'!K13 -> 11398 | J15: ='[2]2T'!L13 -> 0 | K15: ='[2]2T'!M13 -> 0 | L15: ='[2]2T'!N13 -> 4 | ... O15: ='[2]2T'!Q13 -> 0 | P15: ='[2]2T'!S13 -> 1097 | Q15: ='[2]2T'!T13 -> 46 | R15: ='[2]2T'!V13 -> 0 | S15: ='[2]2T'!Y13 -> 13276
... A43: ='1'!A43 -> VEGA Osiguruvanje | B43: ='[2]2T'!B41 -> 411 | C43: ='[2]2T'!C41 -> 9 | D43: ='[2]2T'!D41 -> 122 | E43: ='[2]2T'!G41 -> 0 | F43: ='[2]2T'!H41 -> 0 | G43: ='[2]2T'!I41 -> 49 | H43: ='[2]2T'!J41 -> 200 | I43: ='[2]2T'!K41 -> 723 | J43: ='[2]2T'!L41 -> 0 | K43: ='[2]2T'!M41 -> 1 | L43: ='[2]2T'!N41 -> 9 | ... O43: ='[2]2T'!Q41 -> 0 | P43: ='[2]2T'!S41 -> 424 | Q43: ='[2]2T'!T41 -> 23 | R43: ='[2]2T'!V41 -> 0 | S43: ='[2]2T'!Y41 -> 1507
A44: Gjithësej | B44: ='[2]2T'!B42 -> 117658 | C44: ='[2]2T'!C42 -> 6699 | D44: ='[2]2T'!D42 -> 11526 | E44: ='[2]2T'!G42 -> 20 | F44: ='[2]2T'!H42 -> 344 | G44: ='[2]2T'!I42 -> 4769 | H44: ='[2]2T'!J42 -> 7173 | I44: ='[2]2T'!K42 -> 220922 | J44: ='[2]2T'!L42 -> 7 | K44: ='[2]2T'!M42 -> 75 | L44: ='[2]2T'!N42 -> 3869 | ... O44: ='[2]2T'!Q42 -> 18 | P44: ='[2]2T'!S42 -> 31841 | Q44: ='[2]2T'!T42 -> 2888 | R44: ='[2]2T'!V42 -> 1322 | S44: ='[2]2T'!Y42 -> 311395
A46: Numri i kontratave të lidhura nuk përfqëson përmbledhje të numrit të kontratave në vecanti sipas klasave të sigurimeve, sepse një kontratë sigurimi mund të mbulojë ngjarje sigurimi në lidhje me klasa të ndryshme sigurimi në këtë rast kontrata vendoset në cdo klasë sigurimi, sipas ndarjes të klasave të sigurimit, por numërohet vetëm njëherë. Gjitësej shuma e këtij parametri përmbledhur për të gjitha klasat e sigurimeve përfaqëson numrin e kontratave të lidhura pavarësisht nëse polisa mbulon rreziqe nga një ose më shumë klasa sigurimi.

Sheet 3
A1: Tabela 3. Primi i shkruara bruto (sipas shoqërive të sigurimeve )
R2: 000 mkd
A3: Ndërmjetësim në kontraktimin për sigurime | B3: Makedonija | C3: Triglav | D3: Sava | E3: Evroins | F3: Viner | G3: Eurolink | H3: Grave jojetë | I3: Unika | J3: Halk | K3: Kroacija jojetë | L3: Osiguritelna polisa | M3: Kroacija jetë | N3: Grave | O3: Viner jetë | P3: Unika jetë | Q3: Triglav jetë | R3: Gjithësej
A4: ='1'!A4 -> AMG Premium | B4: ='[2]3T'!C2 -> 18 | C4: ='[2]3T'!D2 -> 0 | D4: ='[2]3T'!E2 -> 0 | E4: ='[2]3T'!F2 -> 0 | F4: ='[2]3T'!G2 -> 0 | G4: ='[2]3T'!H2 -> 0 | H4: ='[2]3T'!I2 -> 0 | I4: ='[2]3T'!J2 -> 0 | ... L4: ='[2]3T'!M2 -> 0 | M4: ='[2]3T'!O2 -> 0 | N4: ='[2]3T'!P2 -> 0 | O4: ='[2]3T'!Q2 -> 0 | P4: ='[2]3T'!R2 -> 0 | Q4: ='[2]3T'!S2 -> 0 | R4: ='[2]3T'!B2 -> 40
A5: ='1'!A5 -> A-tim | B5: ='[2]3T'!C3 -> 0 | C5: ='[2]3T'!D3 -> 24 | D5: ='[2]3T'!E3 -> 0 | E5: ='[2]3T'!F3 -> 475 | F5: ='[2]3T'!G3 -> 0 | G5: ='[2]3T'!H3 -> 710 | H5: ='[2]3T'!I3 -> 0 | I5: ='[2]3T'!J3 -> 220 | ... L5: ='[2]3T'!M3 -> 0 | M5: ='[2]3T'!O3 -> 448 | N5: ='[2]3T'!P3 -> 0 | O5: ='[2]3T'!Q3 -> 0 | P5: ='[2]3T'!R3 -> 0 | Q5: ='[2]3T'!S3 -> 0 | R5: ='[2]3T'!B3 -> 1979
A6: ='1'!A6 -> VFP | B6: ='[2]3T'!C4 -> 10340 | C6: ='[2]3T'!D4 -> 34681 | D6: ='[2]3T'!E4 -> 15050 | E6: ='[2]3T'!F4 -> 865 | F6: ='[2]3T'!G4 -> 7463 | G6: ='[2]3T'!H4 -> 14920 | H6: ='[2]3T'!I4 -> 726 | I6: ='[2]3T'!J4 -> 7277 | ... L6: ='[2]3T'!M4 -> 27308 | M6: ='[2]3T'!O4 -> 176857 | N6: ='[2]3T'!P4 -> 138799 | O6: ='[2]3T'!Q4 -> 148057 | P6: ='[2]3T'!R4 -> 49503 | Q6: ='[2]3T'!S4 -> 2295 | R6: ='[2]3T'!B4 -> 696465
A7: ='1'!A7 -> Delta- ins | B7: ='[2]3T'!C5 -> 5 | C7: ='[2]3T'!D5 -> 2434 | D7: ='[2]3T'!E5 -> 95 | E7: ='[2]3T'!F5 -> 267 | F7: ='[2]3T'!G5 -> 1815 | G7: ='[2]3T'!H5 -> 336 | H7: ='[2]3T'!I5 -> 32 | I7: ='[2]3T'!J5 -> 2432 | ... L7: ='[2]3T'!M5 -> 136 | M7: ='[2]3T'!O5 -> 81 | N7: ='[2]3T'!P5 -> 0 | O7: ='[2]3T'!Q5 -> 831 | P7: ='[2]3T'!R5 -> 4 | Q7: ='[2]3T'!S5 -> 19 | R7: ='[2]3T'!B5 -> 11096
A8: ='1'!A8 -> Euro eksperts | B8: ='[2]3T'!C6 -> 1939 | C8: ='[2]3T'!D6 -> 5702 | D8: ='[2]3T'!E6 -> 1142 | E8: ='[2]3T'!F6 -> 0 | F8: ='[2]3T'!G6 -> 69 | G8: ='[2]3T'!H6 -> 462 | H8: ='[2]3T'!I6 -> 0 | I8: ='[2]3T'!J6 -> 861 | ... L8: ='[2]3T'!M6 -> 5 | M8: ='[2]3T'!O6 -> 0 | N8: ='[2]3T'!P6 -> 0 | O8: ='[2]3T'!Q6 -> 0 | P8: ='[2]3T'!R6 -> 0 | Q8: ='[2]3T'!S6 -> 0 | R8: ='[2]3T'!B6 -> 12206
A9: ='1'!A9 -> Euromak | B9: ='[2]3T'!C7 -> 94 | C9: ='[2]3T'!D7 -> 7081 | D9: ='[2]3T'!E7 -> 21 | E9: ='[2]3T'!F7 -> 0 | F9: ='[2]3T'!G7 -> 535 | G9: ='[2]3T'!H7 -> 4138 | H9: ='[2]3T'!I7 -> 0 | I9: ='[2]3T'!J7 -> 8180 | ... L9: ='[2]3T'!M7 -> 199 | M9: ='[2]3T'!O7 -> 0 | N9: ='[2]3T'!P7 -> 0 | O9: ='[2]3T'!Q7 -> 0 | P9: ='[2]3T'!R7 -> 1258 | Q9: ='[2]3T'!S7 -> 0 | R9: ='[2]3T'!B7 -> 21997
A10: ='1'!A10 -> In- broker | B10: ='[2]3T'!C8 -> 86534 | C10: ='[2]3T'!D8 -> 12092 | D10: ='[2]3T'!E8 -> 602 | E10: ='[2]3T'!F8 -> 11 | F10: ='[2]3T'!G8 -> 47 | G10: ='[2]3T'!H8 -> 1240 | H10: ='[2]3T'!I8 -> 0 | I10: ='[2]3T'!J8 -> 75927 | ... L10: ='[2]3T'!M8 -> 934 | M10: ='[2]3T'!O8 -> 0 | N10: ='[2]3T'!P8 -> 0 | O10: ='[2]3T'!Q8 -> 2158 | P10: ='[2]3T'!R8 -> 5858 | Q10: ='[2]3T'!S8 -> 0 | R10: ='[2]3T'!B8 -> 193291
A11: ='1'!A11 -> JDB Broker | B11: ='[2]3T'!C9 -> 17 | C11: ='[2]3T'!D9 -> 897 | D11: ='[2]3T'!E9 -> 537 | E11: ='[2]3T'!F9 -> 111 | F11: ='[2]3T'!G9 -> 2762 | G11: ='[2]3T'!H9 -> 64 | H11: ='[2]3T'!I9 -> 147 | I11: ='[2]3T'!J9 -> 22 | ... L11: ='[2]3T'!M9 -> 521 | M11: ='[2]3T'!O9 -> 0 | N11: ='[2]3T'!P9 -> 0 | O11: ='[2]3T'!Q9 -> 0 | P11: ='[2]3T'!R9 -> 0 | Q11: ='[2]3T'!S9 -> 100 | R11: ='[2]3T'!B9 -> 20864
A12: ='1'!A12 -> Legra | B12: ='[2]3T'!C10 -> 1083 | C12: ='[2]3T'!D10 -> 478 | D12: ='[2]3T'!E10 -> 4 | E12: ='[2]3T'!F10 -> 0 | F12: ='[2]3T'!G10 -> 87 | G12: ='[2]3T'!H10 -> 38 | H12: ='[2]3T'!I10 -> 0 | I12: ='[2]3T'!J10 -> 14799 | ... L12: ='[2]3T'!M10 -> 0 | M12: ='[2]3T'!O10 -> 0 | N12: ='[2]3T'!P10 -> 0 | O12: ='[2]3T'!Q10 -> 5 | P12: ='[2]3T'!R10 -> 0 | Q12: ='[2]3T'!S10 -> 0 | R12: ='[2]3T'!B10 -> 16547
A13: ='1'!A13 -> Mobiliti | B13: ='[2]3T'!C11 -> 17904 | C13: ='[2]3T'!D11 -> 22896 | D13: ='[2]3T'!E11 -> 7588 | E13: ='[2]3T'!F11 -> 7649 | F13: ='[2]3T'!G11 -> 15080 | G13: ='[2]3T'!H11 -> 19319 | H13: ='[2]3T'!I11 -> 1816 | I13: ='[2]3T'!J11 -> 4394 | ... L13: ='[2]3T'!M11 -> 4472 | M13: ='[2]3T'!O11 -> 1108 | N13: ='[2]3T'!P11 -> 0 | O13: ='[2]3T'!Q11 -> 210 | P13: ='[2]3T'!R11 -> 0 | Q13: ='[2]3T'!S11 -> 176 | R13: ='[2]3T'!B11 -> 127460
A14: ='1'!A14 -> Nashe osiguruvanje | B14: ='[2]3T'!C12 -> 4388 | C14: ='[2]3T'!D12 -> 3940 | D14: ='[2]3T'!E12 -> 3368 | E14: ='[2]3T'!F12 -> 59 | F14: ='[2]3T'!G12 -> 1988 | G14: ='[2]3T'!H12 -> 5295 | H14: ='[2]3T'!I12 -> 0 | I14: ='[2]3T'!J12 -> 2120 | ... L14: ='[2]3T'!M12 -> 106 | M14: ='[2]3T'!O12 -> 661 | N14: ='[2]3T'!P12 -> 0 | O14: ='[2]3T'!Q12 -> 0 | P14: ='[2]3T'!R12 -> 29 | Q14: ='[2]3T'!S12 -> 0 | R14: ='[2]3T'!B12 -> 22299
A15: ='1'!A15 -> Polisa plus | B15: ='[2]3T'!C13 -> 147 | C15: ='[2]3T'!D13 -> 2701 | D15: ='[2]3T'!E13 -> 754 | E15: ='[2]3T'!F13 -> 6869 | F15: ='[2]3T'!G13 -> 15327 | G15: ='[2]3T'!H13 -> 563 | H15: ='[2]3T'!I13 -> 0 | I15: ='[2]3T'!J13 -> 1296 | ... L15: ='[2]3T'!M13 -> 8401 | M15: ='[2]3T'!O13 -> 214 | N15: ='[2]3T'!P13 -> 7741 | O15: ='[2]3T'!Q13 -> 342 | P15: ='[2]3T'!R13 -> 0 | Q15: ='[2]3T'!S13 -> 16 | R15: ='[2]3T'!B13 -> 54008
... A44: ='1'!A44 -> Gjithësej | B44: ='[2]3T'!C42 -> 179742 | C44: ='[2]3T'!D42 -> 243302 | D44: ='[2]3T'!E42 -> 100030 | E44: ='[2]3T'!F42 -> 345001 | F44: ='[2]3T'!G42 -> 183128 | G44: ='[2]3T'!H42 -> 116200 | H44: ='[2]3T'!I42 -> 78210 | I44: ='[2]3T'!J42 -> 307495 | ... L44: ='[2]3T'!M42 -> 106223 | M44: ='[2]3T'!O42 -> 187563 | N44: ='[2]3T'!P42 -> 148017 | O44: ='[2]3T'!Q42 -> 155065 | P44: ='[2]3T'!R42 -> 68758 | Q44: ='[2]3T'!S42 -> 8497 | R44: ='[2]3T'!B42 -> 2788051

Sheet 4
A1: Tabela 4. Primi i shkrur bruto (sipas klasave të sigurimeve)
A3: Ndërmjetësim në kontraktimin për sigurime | B3: 01. Aksidente | C3: 02. Sigurimi shëndetësor | D3: 03. Kasko automjete motorike | E3: 06. Kasko objekte lundruese | F3: 07. Mallra në transport (Kargo) | G3: 08. Prona nga zjarri dhe fatkeqësi natyrore | H3: 09. Sigurime të tjera të pronës | I3: 10. Përgjegjësisë nga përdorimi i mjeteve motorike (gjithësej) | J3: 11. Përgjegjësia mjete ajrore | K3: 12. Përgjegjësia objekte lundruese | L3: 13.Përgjegjësia e përgjithshme | M3: 14. Kredite | N3: 15. Garanci | O3: 16. Humbje financiare | P3: 18. Asistencë turistike | Q3: 19. Jetë | R3: 21. Sigurimi i jetës kur rreziku nga investimet mbartet në kurriz të të siguruarit | S3: Gjithësej
A4: ='1'!A4 -> AMG Premium | B4: ='[2]4T'!B2 -> 0 | C4: ='[2]4T'!C2 -> 0 | D4: ='[2]4T'!D2 -> 0 | E4: ='[2]4T'!G2 -> 0 | F4: ='[2]4T'!H2 -> 0 | G4: ='[2]4T'!I2 -> 18 | H4: ='[2]4T'!J2 -> 0 | I4: ='[2]4T'!K2 -> 22 | J4: ='[2]4T'!L2 -> 0 | K4: ='[2]4T'!M2 -> 0 | L4: ='[2]4T'!N2 -> 0 | ... O4: ='[2]4T'!Q2 -> 0 | P4: ='[2]4T'!S2 -> 0 | Q4: ='[2]4T'!T2 -> 0 | R4: ='[2]4T'!V2 -> 0 | S4: ='[2]4T'!Y2 -> 40
A5: ='1'!A5 -> A-tim | B5: ='[2]4T'!B3 -> 531 | C5: ='[2]4T'!C3 -> 0 | D5: ='[2]4T'!D3 -> 251 | E5: ='[2]4T'!G3 -> 0 | F5: ='[2]4T'!H3 -> 0 | G5: ='[2]4T'!I3 -> 188 | H5: ='[2]4T'!J3 -> 237 | I5: ='[2]4T'!K3 -> 258 | J5: ='[2]4T'!L3 -> 0 | K5: ='[2]4T'!M3 -> 0 | L5: ='[2]4T'!N3 -> 50 | ... O5: ='[2]4T'!Q3 -> 0 | P5: ='[2]4T'!S3 -> 16 | Q5: ='[2]4T'!T3 -> 448 | R5: ='[2]4T'!V3 -> 0 | S5: ='[2]4T'!Y3 -> 1979
A6: ='1'!A6 -> VFP | B6: ='[2]4T'!B4 -> 11412 | C6: ='[2]4T'!C4 -> 68072 | D6: ='[2]4T'!D4 -> 17984 | E6: ='[2]4T'!G4 -> 218 | F6: ='[2]4T'!H4 -> 226 | G6: ='[2]4T'!I4 -> 15527 | H6: ='[2]4T'!J4 -> 15357 | I6: ='[2]4T'!K4 -> 41609 | J6: ='[2]4T'!L4 -> 0 | K6: ='[2]4T'!M4 -> 99 | L6: ='[2]4T'!N4 -> 5613 | ... O6: ='[2]4T'!Q4 -> 168 | P6: ='[2]4T'!S4 -> 4304 | Q6: ='[2]4T'!T4 -> 328504 | R6: ='[2]4T'!V4 -> 187007 | S6: ='[2]4T'!Y4 -> 696465
A7: ='1'!A7 -> Delta- ins | B7: ='[2]4T'!B5 -> 756 | C7: ='[2]4T'!C5 -> 0 | D7: ='[2]4T'!D5 -> 1140 | E7: ='[2]4T'!G5 -> 0 | F7: ='[2]4T'!H5 -> 1279 | G7: ='[2]4T'!I5 -> 351 | H7: ='[2]4T'!J5 -> 1774 | I7: ='[2]4T'!K5 -> 2949 | J7: ='[2]4T'!L5 -> 467 | K7: ='[2]4T'!M5 -> 0 | L7: ='[2]4T'!N5 -> 1175 | ... O7: ='[2]4T'!Q5 -> 0 | P7: ='[2]4T'!S5 -> 270 | Q7: ='[2]4T'!T5 -> 935 | R7: ='[2]4T'!V5 -> 0 | S7: ='[2]4T'!Y5 -> 11096
A8: ='1'!A8 -> Euro eksperts | B8: ='[2]4T'!B6 -> 518 | C8: ='[2]4T'!C6 -> 1106 | D8: ='[2]4T'!D6 -> 2106 | E8: ='[2]4T'!G6 -> 0 | F8: ='[2]4T'!H6 -> 222 | G8: ='[2]4T'!I6 -> 1464 | H8: ='[2]4T'!J6 -> 2623 | I8: ='[2]4T'!K6 -> 2836 | J8: ='[2]4T'!L6 -> 0 | K8: ='[2]4T'!M6 -> 0 | L8: ='[2]4T'!N6 -> 989 | ... O8: ='[2]4T'!Q6 -> 161 | P8: ='[2]4T'!S6 -> 181 | Q8: ='[2]4T'!T6 -> 0 | R8: ='[2]4T'!V6 -> 0 | S8: ='[2]4T'!Y6 -> 12206
A9: ='1'!A9 -> Euromak | B9: ='[2]4T'!B7 -> 127 | C9: ='[2]4T'!C7 -> 174 | D9: ='[2]4T'!D7 -> 669 | E9: ='[2]4T'!G7 -> 0 | F9: ='[2]4T'!H7 -> 1491 | G9: ='[2]4T'!I7 -> 11659 | H9: ='[2]4T'!J7 -> 1692 | I9: ='[2]4T'!K7 -> 419 | J9: ='[2]4T'!L7 -> 0 | K9: ='[2]4T'!M7 -> 0 | L9: ='[2]4T'!N7 -> 4329 | ... O9: ='[2]4T'!Q7 -> 179 | P9: ='[2]4T'!S7 -> 0 | Q9: ='[2]4T'!T7 -> 108 | R9: ='[2]4T'!V7 -> 1150 | S9: ='[2]4T'!Y7 -> 21997
A10: ='1'!A10 -> In- broker | B10: ='[2]4T'!B8 -> 10733 | C10: ='[2]4T'!C8 -> 2610 | D10: ='[2]4T'!D8 -> 22066 | E10: ='[2]4T'!G8 -> 0 | F10: ='[2]4T'!H8 -> 4213 | G10: ='[2]4T'!I8 -> 67630 | H10: ='[2]4T'!J8 -> 40704 | I10: ='[2]4T'!K8 -> 8467 | J10: ='[2]4T'!L8 -> 0 | K10: ='[2]4T'!M8 -> 0 | L10: ='[2]4T'!N8 -> 28478 | ... O10: ='[2]4T'!Q8 -> 0 | P10: ='[2]4T'!S8 -> 374 | Q10: ='[2]4T'!T8 -> 8016 | R10: ='[2]4T'!V8 -> 0 | S10: ='[2]4T'!Y8 -> 193291
A11: ='1'!A11 -> JDB Broker | B11: ='[2]4T'!B9 -> 1013 | C11: ='[2]4T'!C9 -> 5790 | D11: ='[2]4T'!D9 -> 2844 | E11: ='[2]4T'!G9 -> 0 | F11: ='[2]4T'!H9 -> 190 | G11: ='[2]4T'!I9 -> 858 | H11: ='[2]4T'!J9 -> 2507 | I11: ='[2]4T'!K9 -> 5106 | J11: ='[2]4T'!L9 -> 0 | K11: ='[2]4T'!M9 -> 0 | L11: ='[2]4T'!N9 -> 2273 | ... O11: ='[2]4T'!Q9 -> 0 | P11: ='[2]4T'!S9 -> 183 | Q11: ='[2]4T'!T9 -> 100 | R11: ='[2]4T'!V9 -> 0 | S11: ='[2]4T'!Y9 -> 20864
A12: ='1'!A12 -> Legra | B12: ='[2]4T'!B10 -> 119 | C12: ='[2]4T'!C10 -> 0 | D12: ='[2]4T'!D10 -> 1255 | E12: ='[2]4T'!G10 -> 0 | F12: ='[2]4T'!H10 -> 153 | G12: ='[2]4T'!I10 -> 528 | H12: ='[2]4T'!J10 -> 12109 | I12: ='[2]4T'!K10 -> 1153 | J12: ='[2]4T'!L10 -> 0 | K12: ='[2]4T'!M10 -> 5 | L12: ='[2]4T'!N10 -> 1064 | ... O12: ='[2]4T'!Q10 -> 132 | P12: ='[2]4T'!S10 -> 24 | Q12: ='[2]4T'!T10 -> 5 | R12: ='[2]4T'!V10 -> 0 | S12: ='[2]4T'!Y10 -> 16547
A13: ='1'!A13 -> Mobiliti | B13: ='[2]4T'!B11 -> 4285 | C13: ='[2]4T'!C11 -> 365 | D13: ='[2]4T'!D11 -> 3612 | E13: ='[2]4T'!G11 -> 7 | F13: ='[2]4T'!H11 -> 399 | G13: ='[2]4T'!I11 -> 479 | H13: ='[2]4T'!J11 -> 1124 | I13: ='[2]4T'!K11 -> 114010 | J13: ='[2]4T'!L11 -> 0 | K13: ='[2]4T'!M11 -> 0 | L13: ='[2]4T'!N11 -> 432 | ... O13: ='[2]4T'!Q11 -> 0 | P13: ='[2]4T'!S11 -> 1253 | Q13: ='[2]4T'!T11 -> 1494 | R13: ='[2]4T'!V11 -> 0 | S13: ='[2]4T'!Y11 -> 127460
A14: ='1'!A14 -> Nashe osiguruvanje | B14: ='[2]4T'!B12 -> 1276 | C14: ='[2]4T'!C12 -> 1145 | D14: ='[2]4T'!D12 -> 2501 | E14: ='[2]4T'!G12 -> 0 | F14: ='[2]4T'!H12 -> 39 | G14: ='[2]4T'!I12 -> 5632 | H14: ='[2]4T'!J12 -> 6264 | I14: ='[2]4T'!K12 -> 2418 | J14: ='[2]4T'!L12 -> 0 | K14: ='[2]4T'!M12 -> 0 | L14: ='[2]4T'!N12 -> 2147 | ... O14: ='[2]4T'!Q12 -> 0 | P14: ='[2]4T'!S12 -> 187 | Q14: ='[2]4T'!T12 -> 690 | R14: ='[2]4T'!V12 -> 0 | S14: ='[2]4T'!Y12 -> 22299
A15: ='1'!A15 -> Polisa plus | B15: ='[2]4T'!B13 -> 1276 | C15: ='[2]4T'!C13 -> 5 | D15: ='[2]4T'!D13 -> 969 | E15: ='[2]4T'!G13 -> 0 | F15: ='[2]4T'!H13 -> 120 | G15: ='[2]4T'!I13 -> 186 | H15: ='[2]4T'!J13 -> 183 | I15: ='[2]4T'!K13 -> 50138 | J15: ='[2]4T'!L13 -> 0 | K15: ='[2]4T'!M13 -> 0 | L15: ='[2]4T'!N13 -> 99 | ... O15: ='[2]4T'!Q13 -> 0 | P15: ='[2]4T'!S13 -> 460 | Q15: ='[2]4T'!T13 -> 572 | R15: ='[2]4T'!V13 -> 0 | S15: ='[2]4T'!Y13 -> 54008
... A44: ='1'!A44 -> Gjithësej | B44: ='[2]4T'!B42 -> 80216 | C44: ='[2]4T'!C42 -> 104122 | D44: ='[2]4T'!D42 -> 181453 | E44: ='[2]4T'!G42 -> 694 | F44: ='[2]4T'!H42 -> 12736 | G44: ='[2]4T'!I42 -> 143812 | H44: ='[2]4T'!J42 -> 502046 | I44: ='[2]4T'!K42 -> 1123911 | J44: ='[2]4T'!L42 -> 913 | K44: ='[2]4T'!M42 -> 336 | L44: ='[2]4T'!N42 -> 57403 | ... O44: ='[2]4T'!Q42 -> 2331 | P44: ='[2]4T'!S42 -> 18551 | Q44: ='[2]4T'!T42 -> 363864 | R44: ='[2]4T'!V42 -> 195199 | S44: ='[2]4T'!Y42 -> 2788051
