Workbook

Sheet 0з
E5: INSURANCE
E6: SUPERVISION
E7: AGENCY
A9: R e p u b l i c o f N o r t h M a c e d o n i a
A18: Report on the scope and content of the work
A19: of Insurance agencies
A20: for the period 1.1-31.12.2021
D38: Skopje, 2022
A42: Remark: The data is obtained from the companies through regularly reporting according to the article 151 from the Insurance Supervision Law (“Official Gazette of Republic of Macedonia” no. 27/02, 84/02, 98/02, 33/04, 88/05, 79/07, 8/08, 88/08, 56/09, 67/10, 44/11, 188/13, 43/14, 112/14, 153/15, 192/15, 23/16, 83/18, 23/16, 83/18, 198/18 ), and „Official Gazette of the Republic of North Macedonia” no. 101/19 and 31/20). The management is responsible for fair presentation and accurate data. Exchange rate on 31.12.2021: 1 EUR = 61.6270 MKD

Sheet 1з
A1: Table 1. Number of contracts (by insurance undertakings)
U2: 000 mkd
A3: Insurance Undertaking | B3: Aktiva | C3: Trend Mr | D3: Lajon ins | E3: Safe life | F3: Fortis pro | G3: Rea insurance group | H3: Lajf Vizion | I3: NLB banka | J3: Vash prijatel | K3: Sparkasse banka | L3: Family Partner | M3: Halk Banka | N3: Stopanska Banka | O3: Komercijalna Banka | P3: Moe Osiguruvanje | Q3: UNI bank | R3: TTK bank | S3: Protektor | T3: Pro-Ins | U3: Total
A4: Total non-life | B4: ='[1]1з'!B4 -> 22871 | C4: ='[1]1з'!C4 -> 20996 | D4: ='[1]1з'!D4 -> 13195 | E4: ='[1]1з'!E4 -> 0 | F4: ='[1]1з'!F4 -> 689 | G4: ='[1]1з'!G4 -> 16545 | H4: ='[1]1з'!H4 -> 179 | I4: ='[1]1з'!I4 -> 64612 | ... U4: ='[1]1з'!U4 -> 252236
A5: Macedonia | B5: ='[1]1з'!B5 -> 22871 | C5: ='[1]1з'!C5 -> 20996 | D5: ='[1]1з'!D5 -> 0 | E5: ='[1]1з'!E5 -> 0 | F5: ='[1]1з'!F5 -> 0 | G5: ='[1]1з'!G5 -> 0 | H5: ='[1]1з'!H5 -> 0 | I5: ='[1]1з'!I5 -> 0 | ... U5: ='[1]1з'!U5 -> 44653
A6: Triglav | B6: ='[1]1з'!B6 -> 0 | C6: ='[1]1з'!C6 -> 0 | D6: ='[1]1з'!D6 -> 0 | E6: ='[1]1з'!E6 -> 0 | F6: ='[1]1з'!F6 -> 0 | G6: ='[1]1з'!G6 -> 0 | H6: ='[1]1з'!H6 -> 0 | I6: ='[1]1з'!I6 -> 0 | ... U6: ='[1]1з'!U6 -> 1964
A7: Sava | B7: ='[1]1з'!B7 -> 0 | C7: ='[1]1з'!C7 -> 0 | D7: ='[1]1з'!D7 -> 0 | E7: ='[1]1з'!E7 -> 0 | F7: ='[1]1з'!F7 -> 689 | G7: ='[1]1з'!G7 -> 0 | H7: ='[1]1з'!H7 -> 0 | I7: ='[1]1з'!I7 -> 64612 | ... U7: ='[1]1з'!U7 -> 69438
A8: Euroins | B8: ='[1]1з'!B8 -> 0 | C8: ='[1]1з'!C8 -> 0 | D8: ='[1]1з'!D8 -> 0 | E8: ='[1]1з'!E8 -> 0 | F8: ='[1]1з'!F8 -> 0 | G8: ='[1]1з'!G8 -> 0 | H8: ='[1]1з'!H8 -> 0 | I8: ='[1]1з'!I8 -> 0 | ... U8: ='[1]1з'!U8 -> 1790
A9: Winner | B9: ='[1]1з'!B9 -> 0 | C9: ='[1]1з'!C9 -> 0 | D9: ='[1]1з'!D9 -> 0 | E9: ='[1]1з'!E9 -> 0 | F9: ='[1]1з'!F9 -> 0 | G9: ='[1]1з'!G9 -> 0 | H9: ='[1]1з'!H9 -> 0 | I9: ='[1]1з'!I9 -> 0 | ... U9: ='[1]1з'!U9 -> 3276
A10: Uniqa | B10: ='[1]1з'!B10 -> 0 | C10: ='[1]1з'!C10 -> 0 | D10: ='[1]1з'!D10 -> 13195 | E10: ='[1]1з'!E10 -> 0 | F10: ='[1]1з'!F10 -> 0 | G10: ='[1]1з'!G10 -> 16545 | H10: ='[1]1з'!H10 -> 179 | I10: ='[1]1з'!I10 -> 0 | ... U10: ='[1]1з'!U10 -> 29919
A11: Halk | B11: ='[1]1з'!B11 -> 0 | C11: ='[1]1з'!C11 -> 0 | D11: ='[1]1з'!D11 -> 0 | E11: ='[1]1з'!E11 -> 0 | F11: ='[1]1з'!F11 -> 0 | G11: ='[1]1з'!G11 -> 0 | H11: ='[1]1з'!H11 -> 0 | I11: ='[1]1з'!I11 -> 0 | ... U11: ='[1]1з'!U11 -> 26151
A12: Croatia non-life | B12: ='[1]1з'!B12 -> 0 | C12: ='[1]1з'!C12 -> 0 | D12: ='[1]1з'!D12 -> 0 | E12: ='[1]1з'!E12 -> 0 | F12: ='[1]1з'!F12 -> 0 | G12: ='[1]1з'!G12 -> 0 | H12: ='[1]1з'!H12 -> 0 | I12: ='[1]1з'!I12 -> 0 | ... U12: ='[1]1з'!U12 -> 71685
A13: Ins.policy | B13: ='[1]1з'!B13 -> 0 | C13: ='[1]1з'!C13 -> 0 | D13: ='[1]1з'!D13 -> 0 | E13: ='[1]1з'!E13 -> 0 | F13: ='[1]1з'!F13 -> 0 | G13: ='[1]1з'!G13 -> 0 | H13: ='[1]1з'!H13 -> 0 | I13: ='[1]1з'!I13 -> 0 | ... U13: ='[1]1з'!U13 -> 3360
A14: Total life | B14: ='[1]1з'!B14 -> 164 | C14: ='[1]1з'!C14 -> 178 | D14: ='[1]1з'!D14 -> 19 | E14: ='[1]1з'!E14 -> 402 | F14: ='[1]1з'!F14 -> 363 | G14: ='[1]1з'!G14 -> 0 | H14: ='[1]1з'!H14 -> 11 | I14: ='[1]1з'!I14 -> 1697 | ... U14: ='[1]1з'!U14 -> 19898
A15: Croatia life | B15: ='[1]1з'!B15 -> 0 | C15: ='[1]1з'!C15 -> 0 | D15: ='[1]1з'!D15 -> 0 | E15: ='[1]1з'!E15 -> 0 | F15: ='[1]1з'!F15 -> 0 | G15: ='[1]1з'!G15 -> 0 | H15: ='[1]1з'!H15 -> 0 | I15: ='[1]1з'!I15 -> 1689 | ... U15: ='[1]1з'!U15 -> 3251
... A20: Total | B20: ='[1]1з'!B20 -> 23035 | C20: ='[1]1з'!C20 -> 21174 | D20: ='[1]1з'!D20 -> 13214 | E20: ='[1]1з'!E20 -> 402 | F20: ='[1]1з'!F20 -> 1052 | G20: ='[1]1з'!G20 -> 16545 | H20: ='[1]1з'!H20 -> 190 | I20: ='[1]1з'!I20 -> 66309 | ... U20: ='[1]1з'!U20 -> 272134

Sheet 2з 
A1: Table 2. Number of contracts (by classes of insurance)
U2: 000 mkd
A3: Line of business | B3: Aktiva | C3: Trend Mr | D3: Lajon ins | E3: Safe life | F3: Fortis pro | G3: Rea insurance group | H3: Lajf Vizion | I3: NLB banka | J3: Vash prijatel | K3: Sparkasse banka | L3: Family Partner | M3: Halk Banka | N3: Stopanska Banka | O3: Komercijalna Banka | P3: Moe Osiguruvanje | Q3: UNI bank | R3: TTK bank | S3: Protektor | T3: Pro-Ins | U3: Total
A4: 01. Accident | B4: ='[1]2з '!B4 -> 11189 | C4: ='[1]2з '!C4 -> 10788 | D4: ='[1]2з '!D4 -> 6852 | E4: ='[1]2з '!E4 -> 0 | F4: ='[1]2з '!F4 -> 292 | G4: ='[1]2з '!G4 -> 4985 | H4: ='[1]2з '!H4 -> 58 | I4: ='[1]2з '!I4 -> 44657 | ... U4: ='[1]2з '!U4 -> 152414
A5: 02. Health | B5: ='[1]2з '!B5 -> 25 | C5: ='[1]2з '!C5 -> 0 | D5: ='[1]2з '!D5 -> 0 | E5: ='[1]2з '!E5 -> 0 | F5: ='[1]2з '!F5 -> 12 | G5: ='[1]2з '!G5 -> 0 | H5: ='[1]2з '!H5 -> 6 | I5: ='[1]2з '!I5 -> 134 | ... U5: ='[1]2з '!U5 -> 263
A6: 03. Motor vehicles (casco) | B6: ='[1]2з '!B6 -> 1317 | C6: ='[1]2з '!C6 -> 729 | D6: ='[1]2з '!D6 -> 309 | E6: ='[1]2з '!E6 -> 0 | F6: ='[1]2з '!F6 -> 45 | G6: ='[1]2з '!G6 -> 240 | H6: ='[1]2з '!H6 -> 6 | I6: ='[1]2з '!I6 -> 128 | ... U6: ='[1]2з '!U6 -> 3337
A7: 06. Vessels (casco) | B7: ='[1]2з '!B7 -> 0 | C7: ='[1]2з '!C7 -> 1 | D7: ='[1]2з '!D7 -> 0 | E7: ='[1]2з '!E7 -> 0 | F7: ='[1]2з '!F7 -> 0 | G7: ='[1]2з '!G7 -> 0 | H7: ='[1]2з '!H7 -> 0 | I7: ='[1]2з '!I7 -> 0 | ... U7: ='[1]2з '!U7 -> 2
A8: 07. Cargo | B8: ='[1]2з '!B8 -> 14 | C8: ='[1]2з '!C8 -> 262 | D8: ='[1]2з '!D8 -> 24 | E8: ='[1]2з '!E8 -> 0 | F8: ='[1]2з '!F8 -> 1 | G8: ='[1]2з '!G8 -> 8 | H8: ='[1]2з '!H8 -> 0 | I8: ='[1]2з '!I8 -> 0 | ... U8: ='[1]2з '!U8 -> 336
A9: 08. Property, fire and nat.forces | B9: ='[1]2з '!B9 -> 3145 | C9: ='[1]2з '!C9 -> 3369 | D9: ='[1]2з '!D9 -> 315 | E9: ='[1]2з '!E9 -> 0 | F9: ='[1]2з '!F9 -> 131 | G9: ='[1]2з '!G9 -> 46 | H9: ='[1]2з '!H9 -> 15 | I9: ='[1]2з '!I9 -> 3966 | ... U9: ='[1]2з '!U9 -> 36339
A10: 09. Property, other | B10: ='[1]2з '!B10 -> 782 | C10: ='[1]2з '!C10 -> 640 | D10: ='[1]2з '!D10 -> 224 | E10: ='[1]2з '!E10 -> 0 | F10: ='[1]2з '!F10 -> 207 | G10: ='[1]2з '!G10 -> 28 | H10: ='[1]2з '!H10 -> 11 | I10: ='[1]2з '!I10 -> 12959 | ... U10: ='[1]2з '!U10 -> 24994
A11: 10. MTPL (total) | B11: ='[1]2з '!B11 -> 3145 | C11: ='[1]2з '!C11 -> 3369 | D11: ='[1]2з '!D11 -> 315 | E11: ='[1]2з '!E11 -> 0 | F11: ='[1]2з '!F11 -> 131 | G11: ='[1]2з '!G11 -> 46 | H11: ='[1]2з '!H11 -> 15 | I11: ='[1]2з '!I11 -> 3966 | ... U11: ='[1]2з '!U11 -> 36339
A12: 12. Vessel's liability | B12: ='[1]2з '!B12 -> 6 | C12: ='[1]2з '!C12 -> 26 | D12: ='[1]2з '!D12 -> 3 | E12: ='[1]2з '!E12 -> 0 | F12: ='[1]2з '!F12 -> 0 | G12: ='[1]2з '!G12 -> 0 | H12: ='[1]2з '!H12 -> 0 | I12: ='[1]2з '!I12 -> 0 | ... U12: ='[1]2з '!U12 -> 36
A13: 13. General liability | B13: ='[1]2з '!B13 -> 1574 | C13: ='[1]2з '!C13 -> 1156 | D13: ='[1]2з '!D13 -> 222 | E13: ='[1]2з '!E13 -> 0 | F13: ='[1]2з '!F13 -> 86 | G13: ='[1]2з '!G13 -> 8 | H13: ='[1]2з '!H13 -> 10 | I13: ='[1]2з '!I13 -> 1 | ... U13: ='[1]2з '!U13 -> 8870
A14: 14. Credit | B14: ='[1]2з '!B14 -> 0 | C14: ='[1]2з '!C14 -> 0 | D14: ='[1]2з '!D14 -> 0 | E14: ='[1]2з '!E14 -> 0 | F14: ='[1]2з '!F14 -> 0 | G14: ='[1]2з '!G14 -> 0 | H14: ='[1]2з '!H14 -> 0 | I14: ='[1]2з '!I14 -> 0 | ... U14: ='[1]2з '!U14 -> 2017
A15: 16. Financial losses | B15: ='[1]2з '!B15 -> 7 | C15: ='[1]2з '!C15 -> 3 | D15: ='[1]2з '!D15 -> 0 | E15: ='[1]2з '!E15 -> 0 | F15: ='[1]2з '!F15 -> 0 | G15: ='[1]2з '!G15 -> 0 | H15: ='[1]2з '!H15 -> 0 | I15: ='[1]2з '!I15 -> 0 | ... U15: ='[1]2з '!U15 -> 10
... A19: Total | B19: ='[1]2з '!B19 -> 23035 | C19: ='[1]2з '!C19 -> 21174 | D19: ='[1]2з '!D19 -> 13214 | E19: ='[1]2з '!E19 -> 402 | F19: ='[1]2з '!F19 -> 1052 | G19: ='[1]2з '!G19 -> 16545 | H19: ='[1]2з '!H19 -> 190 | I19: ='[1]2з '!I19 -> 66309 | ... U19: ='[1]2з '!U19 -> 272134
A20: The number of concluded contracts is not a sum of the number of contracts concluded separately by classes of insurance, since an insurance contract may cover insured events in relation to different classes of insurance and in that case the contract is entered into each class of insurance, according to the clasiffication of the classes of insurance, but counts only once. The aggregate amount of this parameter for all classes of insurance is the number of concluded contracts, regardless of whether the policy covers the risks of one or more classes of insurance.

Sheet 3з
A1: Table 3. Gross Written Premium (by insurance undertaking)
U2: 000 mkd
A3: Insurance Undertaking | B3: Aktiva | C3: Trend Mr | D3: Lajon ins | E3: Safe life | F3: Fortis pro | G3: Rea insurance group | H3: Lajf Vizion | I3: NLB banka | J3: Vash prijatel | K3: Sparkasse banka | L3: Family Partner | M3: Halk Banka | N3: Stopanska Banka | O3: Komercijalna Banka | P3: Moe Osiguruvanje | Q3: UNI bank | R3: TTK bank | S3: Protektor | T3: Pro-Ins | U3: Total
A4: Total non-life | B4: ='[1]3з '!B4 -> 324118 | C4: ='[1]3з '!C4 -> 182178 | D4: ='[1]3з '!D4 -> 64387 | E4: ='[1]3з '!E4 -> 0 | F4: ='[1]3з '!F4 -> 4691 | G4: ='[1]3з '!G4 -> 63852 | H4: ='[1]3з '!H4 -> 992 | I4: ='[1]3з '!I4 -> 47444 | ... U4: ='[1]3з '!U4 -> 886774
A5: Macedonia | B5: ='[1]3з '!B5 -> 324118 | C5: ='[1]3з '!C5 -> 182178 | D5: ='[1]3з '!D5 -> 0 | E5: ='[1]3з '!E5 -> 0 | F5: ='[1]3з '!F5 -> 0 | G5: ='[1]3з '!G5 -> 0 | H5: ='[1]3з '!H5 -> 0 | I5: ='[1]3з '!I5 -> 0 | ... U5: ='[1]3з '!U5 -> 551500
A6: Triglav | B6: ='[1]3з '!B6 -> 0 | C6: ='[1]3з '!C6 -> 0 | D6: ='[1]3з '!D6 -> 0 | E6: ='[1]3з '!E6 -> 0 | F6: ='[1]3з '!F6 -> 0 | G6: ='[1]3з '!G6 -> 0 | H6: ='[1]3з '!H6 -> 0 | I6: ='[1]3з '!I6 -> 0 | ... U6: ='[1]3з '!U6 -> 1787
A7: Sava | B7: ='[1]3з '!B7 -> 0 | C7: ='[1]3з '!C7 -> 0 | D7: ='[1]3з '!D7 -> 0 | E7: ='[1]3з '!E7 -> 0 | F7: ='[1]3з '!F7 -> 4691 | G7: ='[1]3з '!G7 -> 0 | H7: ='[1]3з '!H7 -> 0 | I7: ='[1]3з '!I7 -> 47444 | ... U7: ='[1]3з '!U7 -> 62162
A8: Euroins | B8: ='[1]3з '!B8 -> 0 | C8: ='[1]3з '!C8 -> 0 | D8: ='[1]3з '!D8 -> 0 | E8: ='[1]3з '!E8 -> 0 | F8: ='[1]3з '!F8 -> 0 | G8: ='[1]3з '!G8 -> 0 | H8: ='[1]3з '!H8 -> 0 | I8: ='[1]3з '!I8 -> 0 | ... U8: ='[1]3з '!U8 -> 14977
A9: Winner | B9: ='[1]3з '!B9 -> 0 | C9: ='[1]3з '!C9 -> 0 | D9: ='[1]3з '!D9 -> 0 | E9: ='[1]3з '!E9 -> 0 | F9: ='[1]3з '!F9 -> 0 | G9: ='[1]3з '!G9 -> 0 | H9: ='[1]3з '!H9 -> 0 | I9: ='[1]3з '!I9 -> 0 | ... U9: ='[1]3з '!U9 -> 3121
A10: Uniqa | B10: ='[1]3з '!B10 -> 0 | C10: ='[1]3з '!C10 -> 0 | D10: ='[1]3з '!D10 -> 64387 | E10: ='[1]3з '!E10 -> 0 | F10: ='[1]3з '!F10 -> 0 | G10: ='[1]3з '!G10 -> 63852 | H10: ='[1]3з '!H10 -> 992 | I10: ='[1]3з '!I10 -> 0 | ... U10: ='[1]3з '!U10 -> 129231
A11: Halk | B11: ='[1]3з '!B11 -> 0 | C11: ='[1]3з '!C11 -> 0 | D11: ='[1]3з '!D11 -> 0 | E11: ='[1]3з '!E11 -> 0 | F11: ='[1]3з '!F11 -> 0 | G11: ='[1]3з '!G11 -> 0 | H11: ='[1]3з '!H11 -> 0 | I11: ='[1]3з '!I11 -> 0 | ... U11: ='[1]3з '!U11 -> 44615
A12: Croatia non-life | B12: ='[1]3з '!B12 -> 0 | C12: ='[1]3з '!C12 -> 0 | D12: ='[1]3з '!D12 -> 0 | E12: ='[1]3з '!E12 -> 0 | F12: ='[1]3з '!F12 -> 0 | G12: ='[1]3з '!G12 -> 0 | H12: ='[1]3з '!H12 -> 0 | I12: ='[1]3з '!I12 -> 0 | ... U12: ='[1]3з '!U12 -> 59119
A13: Ins.policy | B13: ='[1]3з '!B13 -> 0 | C13: ='[1]3з '!C13 -> 0 | D13: ='[1]3з '!D13 -> 0 | E13: ='[1]3з '!E13 -> 0 | F13: ='[1]3з '!F13 -> 0 | G13: ='[1]3з '!G13 -> 0 | H13: ='[1]3з '!H13 -> 0 | I13: ='[1]3з '!I13 -> 0 | ... U13: ='[1]3з '!U13 -> 20262
A14: Total life | B14: ='[1]3з '!B14 -> 5781 | C14: ='[1]3з '!C14 -> 8662 | D14: ='[1]3з '!D14 -> 2753 | E14: ='[1]3з '!E14 -> 114918 | F14: ='[1]3з '!F14 -> 134 | G14: ='[1]3з '!G14 -> 0 | H14: ='[1]3з '!H14 -> 13249 | I14: ='[1]3з '!I14 -> 87626 | ... U14: ='[1]3з '!U14 -> 488664
A15: Croatia life | B15: ='[1]3з '!B15 -> 55 | C15: ='[1]3з '!C15 -> 0 | D15: ='[1]3з '!D15 -> 0 | E15: ='[1]3з '!E15 -> 0 | F15: ='[1]3з '!F15 -> 0 | G15: ='[1]3з '!G15 -> 0 | H15: ='[1]3з '!H15 -> 0 | I15: ='[1]3з '!I15 -> 83609 | ... U15: ='[1]3з '!U15 -> 111801
... A20: Total | B20: ='[1]3з '!B20 -> 329899 | C20: ='[1]3з '!C20 -> 190840 | D20: ='[1]3з '!D20 -> 67140 | E20: ='[1]3з '!E20 -> 114918 | F20: ='[1]3з '!F20 -> 4825 | G20: ='[1]3з '!G20 -> 63852 | H20: ='[1]3з '!H20 -> 14241 | I20: ='[1]3з '!I20 -> 135070 | ... U20: ='[1]3з '!U20 -> 1375438

Sheet 4з
A1: Table 4. Gross written premium (by classes of insurance)
U2: 000 mkd
A3: Line of business | B3: Aktiva | C3: Trend Mr | D3: Lajon ins | E3: Safe life | F3: Fortis pro | G3: Rea insurance group | H3: Lajf Vizion | I3: NLB banka | J3: Vash prijatel | K3: Sparkasse banka | L3: Family Partner | M3: Halk Banka | N3: Stopanska Banka | O3: Komercijalna Banka | P3: Moe Osiguruvanje | Q3: UNI bank | R3: TTK bank | S3: Protektor | T3: Pro-Ins | U3: Total
A4: ='2з '!A4 -> 01. Accident | B4: ='[1]4з'!B4 -> 23321 | C4: ='[1]4з'!C4 -> 16152 | D4: ='[1]4з'!D4 -> 3447 | E4: ='[1]4з'!E4 -> 0 | F4: ='[1]4з'!F4 -> 674 | G4: ='[1]4з'!G4 -> 2121 | H4: ='[1]4з'!H4 -> 28 | I4: ='[1]4з'!I4 -> 22733 | ... U4: ='[1]4з'!U4 -> 112876
A5: ='2з '!A5 -> 02. Health | B5: ='[1]4з'!B5 -> 4518 | C5: ='[1]4з'!C5 -> 0 | D5: ='[1]4з'!D5 -> 0 | E5: ='[1]4з'!E5 -> 0 | F5: ='[1]4з'!F5 -> 54 | G5: ='[1]4з'!G5 -> 0 | H5: ='[1]4з'!H5 -> 384 | I5: ='[1]4з'!I5 -> 454 | ... U5: ='[1]4з'!U5 -> 8362
A6: ='2з '!A6 -> 03. Motor vehicles (casco) | B6: ='[1]4з'!B6 -> 26297 | C6: ='[1]4з'!C6 -> 12921 | D6: ='[1]4з'!D6 -> 5604 | E6: ='[1]4з'!E6 -> 0 | F6: ='[1]4з'!F6 -> 1319 | G6: ='[1]4з'!G6 -> 6370 | H6: ='[1]4з'!H6 -> 79 | I6: ='[1]4з'!I6 -> 1474 | ... U6: ='[1]4з'!U6 -> 63738
A7: 06. Vessels (casco) | B7: ='[1]4з'!B7 -> 0 | C7: ='[1]4з'!C7 -> 6 | D7: ='[1]4з'!D7 -> 0 | E7: ='[1]4з'!E7 -> 0 | F7: ='[1]4з'!F7 -> 0 | G7: ='[1]4з'!G7 -> 0 | H7: ='[1]4з'!H7 -> 0 | I7: ='[1]4з'!I7 -> 0 | ... U7: ='[1]4з'!U7 -> 12
A8: ='2з '!A8 -> 07. Cargo | B8: ='[1]4з'!B8 -> 563 | C8: ='[1]4з'!C8 -> 8967 | D8: ='[1]4з'!D8 -> 244 | E8: ='[1]4з'!E8 -> 0 | F8: ='[1]4з'!F8 -> 5 | G8: ='[1]4з'!G8 -> 158 | H8: ='[1]4з'!H8 -> 0 | I8: ='[1]4з'!I8 -> 0 | ... U8: ='[1]4з'!U8 -> 10109
A9: ='2з '!A9 -> 08. Property, fire and nat.forces | B9: ='[1]4з'!B9 -> 15672 | C9: ='[1]4з'!C9 -> 19287 | D9: ='[1]4з'!D9 -> 951 | E9: ='[1]4з'!E9 -> 0 | F9: ='[1]4з'!F9 -> 409 | G9: ='[1]4з'!G9 -> 677 | H9: ='[1]4з'!H9 -> 27 | I9: ='[1]4з'!I9 -> 8104 | ... U9: ='[1]4з'!U9 -> 101194
A10: ='2з '!A10 -> 09. Property, other | B10: ='[1]4з'!B10 -> 156559 | C10: ='[1]4з'!C10 -> 44498 | D10: ='[1]4з'!D10 -> 608 | E10: ='[1]4з'!E10 -> 0 | F10: ='[1]4з'!F10 -> 385 | G10: ='[1]4з'!G10 -> 251 | H10: ='[1]4з'!H10 -> 19 | I10: ='[1]4з'!I10 -> 13024 | ... U10: ='[1]4з'!U10 -> 254739
A11: ='2з '!A11 -> 10. MTPL (total) | B11: ='[1]4з'!B11 -> 86833 | C11: ='[1]4з'!C11 -> 75271 | D11: ='[1]4з'!D11 -> 51717 | E11: ='[1]4з'!E11 -> 0 | F11: ='[1]4з'!F11 -> 1570 | G11: ='[1]4з'!G11 -> 53344 | H11: ='[1]4з'!H11 -> 414 | I11: ='[1]4з'!I11 -> 943 | ... U11: ='[1]4з'!U11 -> 305603
A12: ='2з '!A12 -> 12. Vessel's liability | B12: ='[1]4з'!B12 -> 19 | C12: ='[1]4з'!C12 -> 67 | D12: ='[1]4з'!D12 -> 17 | E12: ='[1]4з'!E12 -> 0 | F12: ='[1]4з'!F12 -> 0 | G12: ='[1]4з'!G12 -> 0 | H12: ='[1]4з'!H12 -> 0 | I12: ='[1]4з'!I12 -> 0 | ... U12: ='[1]4з'!U12 -> 109
A13: ='2з '!A13 -> 13. General liability | B13: ='[1]4з'!B13 -> 6129 | C13: ='[1]4з'!C13 -> 2836 | D13: ='[1]4з'!D13 -> 774 | E13: ='[1]4з'!E13 -> 0 | F13: ='[1]4з'!F13 -> 145 | G13: ='[1]4з'!G13 -> 95 | H13: ='[1]4з'!H13 -> 15 | I13: ='[1]4з'!I13 -> 6 | ... U13: ='[1]4з'!U13 -> 13794
A14: ='2з '!A14 -> 14. Credit | B14: ='[1]4з'!B14 -> 0 | C14: ='[1]4з'!C14 -> 0 | D14: ='[1]4з'!D14 -> 0 | E14: ='[1]4з'!E14 -> 0 | F14: ='[1]4з'!F14 -> 0 | G14: ='[1]4з'!G14 -> 0 | H14: ='[1]4з'!H14 -> 0 | I14: ='[1]4з'!I14 -> 0 | ... U14: ='[1]4з'!U14 -> 3762
A15: ='2з '!A15 -> 16. Financial losses | B15: ='[1]4з'!B15 -> 640 | C15: ='[1]4з'!C15 -> 87 | D15: ='[1]4з'!D15 -> 0 | E15: ='[1]4з'!E15 -> 0 | F15: ='[1]4з'!F15 -> 0 | G15: ='[1]4з'!G15 -> 0 | H15: ='[1]4з'!H15 -> 0 | I15: ='[1]4з'!I15 -> 0 | ... U15: ='[1]4з'!U15 -> 727
A16: ='2з '!A16 -> 18.Tourists assistance | B16: ='[1]4з'!B16 -> 3567 | C16: ='[1]4з'!C16 -> 2086 | D16: ='[1]4з'!D16 -> 1025 | E16: ='[1]4з'!E16 -> 0 | F16: ='[1]4з'!F16 -> 130 | G16: ='[1]4з'!G16 -> 836 | H16: ='[1]4з'!H16 -> 26 | I16: ='[1]4з'!I16 -> 705 | ... U16: ='[1]4з'!U16 -> 11748
A17: ='2з '!A17 -> 19. Life insurance | B17: ='[1]4з'!B17 -> 5731 | C17: ='[1]4з'!C17 -> 8291 | D17: ='[1]4з'!D17 -> 2461 | E17: ='[1]4з'!E17 -> 114918 | F17: ='[1]4з'!F17 -> 133 | G17: ='[1]4з'!G17 -> 0 | H17: ='[1]4з'!H17 -> 8176 | I17: ='[1]4з'!I17 -> 83609 | ... U17: ='[1]4з'!U17 -> 478860
A18: ='2з '!A18 -> 21. Unit- linked | B18: ='[1]4з'!B18 -> 50 | C18: ='[1]4з'!C18 -> 371 | D18: ='[1]4з'!D18 -> 292 | E18: ='[1]4з'!E18 -> 0 | F18: ='[1]4з'!F18 -> 1 | G18: ='[1]4з'!G18 -> 0 | H18: ='[1]4з'!H18 -> 5073 | I18: ='[1]4з'!I18 -> 4017 | ... U18: ='[1]4з'!U18 -> 9804
A19: ='2з '!A19 -> Total | B19: ='[1]4з'!B19 -> 329899 | C19: ='[1]4з'!C19 -> 190840 | D19: ='[1]4з'!D19 -> 67140 | E19: ='[1]4з'!E19 -> 114918 | F19: ='[1]4з'!F19 -> 4825 | G19: ='[1]4з'!G19 -> 63852 | H19: ='[1]4з'!H19 -> 14241 | I19: ='[1]4з'!I19 -> 135070 | ... U19: ='[1]4з'!U19 -> 1375438
