Workbook

Sheet Пазарно портфолио
A1: Пазарно портфолио, 3К2025 | C1: МКД (во милиони)
A2: Класа на осигурување | B2: Бруто полисирана премија | E2: Бруто исплатени (ликвидирани) штети | H2: Учество %
B3: 3Q2025 | C3: 3Q2024 | D3: Δ % | E3: 3Q2024 | F3: 3Q2023 | G3: Δ % | H3: 3Q2024 | I3: 3Q2023
A4: Вкупно | B4: 13805.559 | C4: 12186.084 | D4: 0.13289544 | E4: 4816.861 | F4: 4324.812 | G4: 0.1137735 | H4: 1 | I4: 1
A5: Вкупно живот | B5: 2272.493 | C5: 2055.02 | D5: 0.10582525 | E5: 853.026 | F5: 707.303 | G5: 0.20602627 | H5: 0.1646071 | I5: 0.16863662
A6: Вкупно неживот, од кое: | B6: 11533.066 | C6: 10131.064 | D6: 0.13838645 | E6: 3963.835 | F6: 3617.509 | G6: 0.095736044 | H6: 0.8353929 | I6: 0.83136338
A7: Осигурување на имот (вкупно) | B7: 2574.257 | C7: 2092.541 | D7: 0.23020624 | E7: 511.788 | F7: 336.706 | G7: 0.51998479 | H7: 0.22320665 | I7: 0.20654701
A8: Имот од пожар и други опасности | B8: 1158.937 | C8: 823.272 | D8: 0.40772066 | E8: 298.534 | F8: 112.3 | G8: 1.6583615 | H8: 0.45020252 | I8: 0.39343172
A9: Имот останато | B9: 1415.32 | C9: 1269.269 | D9: 0.11506702 | E9: 213.254 | F9: 224.406 | G9: -0.049695641 | H9: 0.54979748 | I9: 0.60656828
A10: Осигурување на моторни возила (вкупно) | B10: 5955.975 | C10: 5482.948 | D10: 0.086272385 | E10: 2348.092 | F10: 2322.156 | G10: 0.011168931 | H10: 0.51642599 | I10: 0.5412016
A11: Каско моторни возила | B11: 1120.169 | C11: 1010.967 | D11: 0.10801737 | E11: 537.046 | F11: 551.809 | G11: -0.026753822 | H11: 0.18807483 | I11: 0.18438384
A12: Автоодговорност (вкупно) | B12: 4835.806 | C12: 4471.981 | D12: 0.081356562 | E12: 1811.046 | F12: 1770.347 | G12: 0.022989278 | H12: 0.81192517 | I12: 0.81561616
A13: Општа одговорност | B13: 397.797 | C13: 300.936 | D13: 0.32186578 | E13: 17.104 | F13: 16.656 | G13: 0.026897214 | H13: 0.034491869 | I13: 0.029704284
A14: Останати класи од неживотно осигурување | B14: 2605.037 | C14: 2254.639 | D14: 0.15541202 | E14: 1086.851 | F14: 941.991 | G14: 0.15378066 | H14: 0.2258755 | I14: 0.22254711
A15: Извор: АСО
A16: Објаснување
A17: 1. Податоците се земени од супервизорските извештаи на Агенцијата за супервизија на осигурување и претставуваат прелиминарни податоци. По извршување на проверката конечните податоци се објавуваат во рубриката, Извештаи од осигурителната индустрија, на интернет страницата на Агенцијата за супервизија на осигурување.
A18: кликнете тука...

Sheet Пазарно учество
A1: Осигурување на живот , пазарно учество | E1: МКД (во милиони)
A2: Ред. бр. | B2: Друштво за осигурување | C2: Бруто полисирана премија | F2: Бруто исплатени (ликвидирани) штети | I2: Учество %
C3: 3Q2025 | D3: 3Q2024 | E3: Δ % | F3: 3Q2025 | G3: 3Q2024 | H3: Δ % | I3: 3Q2025 | J3: 3Q2024
A4: 1 | B4: Кроација живот | C4: =[2]БПП3К2025!B40/1000 -> 658.893 | D4: =[2]БПП3К2024!B40/1000 -> 569.55 | E4: =C4/D4-1 -> 0.15686595 | F4: =[2]БИШ3К2025!B40/1000 -> 359.461 | G4: =[2]БИШ3К2024!B40/1000 -> 274.526 | H4: =F4/G4-1 -> 0.30938782 | I4: =C4/$C$10 -> 0.28994281 | J4: =D4/$D$10 -> 0.27715059
A5: 2 | B5: Триглав живот | C5: =[2]БПП3К2025!F40/1000 -> 525.038 | D5: =[2]БПП3К2024!F40/1000 -> 463.87 | E5: =C5/D5-1 -> 0.13186453 | F5: =[2]БИШ3К2025!F40/1000 -> 149.565 | G5: =[2]БИШ3К2024!F40/1000 -> 124.409 | H5: =F5/G5-1 -> 0.20220402 | I5: =C5/$C$10 -> 0.23104054 | J5: =D5/$D$10 -> 0.2257253
A6: 3 | B6: Винер живот | C6: =[2]БПП3К2025!D40/1000 -> 459.804 | D6: =[2]БПП3К2024!D40/1000 -> 418.322 | E6: =C6/D6-1 -> 0.099162846 | F6: =[2]БИШ3К2025!D40/1000 -> 108.167 | G6: =[2]БИШ3К2024!D40/1000 -> 104.952 | H6: =F6/G6-1 -> 0.030633051 | I6: =C6/$C$10 -> 0.20233462 | J6: =D6/$D$10 -> 0.20356104
A7: 4 | B7: Граве живот | C7: =[2]БПП3К2025!C40/1000 -> 364.146 | D7: =[2]БПП3К2024!C40/1000 -> 380.969 | E7: =C7/D7-1 -> -0.044158449 | F7: =[2]БИШ3К2025!C40/1000 -> 179.884 | G7: =[2]БИШ3К2024!C40/1000 -> 157.137 | H7: =F7/G7-1 -> 0.14475903 | I7: =C7/$C$10 -> 0.16024076 | J7: =D7/$D$10 -> 0.18538457
A8: 5 | B8: Уника живот | C8: =[2]БПП3К2025!E40/1000 -> 232.984 | D8: =[2]БПП3К2024!E40/1000 -> 213.041 | E8: =C8/D8-1 -> 0.093611089 | F8: =[2]БИШ3К2025!E40/1000 -> 55.155 | G8: =[2]БИШ3К2024!E40/1000 -> 46.279 | H8: =F8/G8-1 -> 0.19179325 | I8: =C8/$C$10 -> 0.10252353 | J8: =D8/$D$10 -> 0.10366858
A9: 6 | B9: Прва живот | C9: =[2]БПП3К2025!G40/1000 -> 31.628 | D9: =[2]БПП3К2024!G40/1000 -> 9.268 | E9: =C9/D9-1 -> 2.4126025 | F9: =[2]БИШ3К2025!G40/1000 -> 0.794 | G9: =[2]БИШ3К2024!G40/1000 -> 0 | H9: 0 | I9: =C9/C10 -> 0.013917755 | J9: =D9/$D$10 -> 0.0045099318
A10: Вкупно | C10: =SUM(C4:C9) -> 2272.493 | D10: =SUM(D4:D9) -> 2055.02 | E10: =C10/D10-1 -> 0.10582525 | F10: =SUM(F4:F8) -> 852.232 | G10: =SUM(G4:G8) -> 707.303 | H10: =F10/G10-1 -> 0.2049037 | I10: =SUM(I4:I9) -> 1 | J10: =SUM(J4:J9) -> 1
A13: Неживотно осигурување , пазарно учество | E13: МКД (во милиони)
A14: Ред. бр. | B14: Друштво за осигурување | C14: Бруто полисирана премија | F14: Бруто исплатени (ликвидирани) штети | I14: Учество %
C15: 3Q2025 | D15: 3Q2024 | E15: Δ % | F15: 3Q2025 | G15: 3Q2024 | H15: Δ % | I15: 3Q2025 | J15: 3Q2024
A16: 1 | B16: Еуролинк | C16: 1847.096 | D16: 1187.575 | E16: 0.55535103 | F16: 378.864 | G16: 375.563 | H16: 0.0087894707 | I16: 0.16015654 | J16: 0.11722115
A17: 2 | B17: Македонија- ВИГ | C17: 1744.805 | D17: 1826.76 | E17: -0.044863584 | F17: 704.751 | G17: 676.045 | H17: 0.04246167 | I17: 0.15128718 | J17: 0.18031275
A18: 3 | B18: Уника | C18: 1438.107 | D18: 1144.574 | E18: 0.25645611 | F18: 503.254 | G18: 412.466 | H18: 0.22011026 | I18: 0.12469425 | J18: 0.11297668
A19: 4 | B19: Триглав | C19: 1394.192 | D19: 1273.207 | E19: 0.095023826 | F19: 475.955 | G19: 484.112 | H19: -0.016849407 | I19: 0.1208865 | J19: 0.12567357
A20: 5 | B20: Кроација неживот | C20: 1171.843 | D20: 950.125 | E20: 0.23335666 | F20: 416.234 | G20: 378.381 | H20: 0.10003938 | I20: 0.10160724 | J20: 0.093783338
A21: 6 | B21: Сава | C21: 1140.883 | D21: 1044.413 | E21: 0.092367674 | F21: 620.008 | G21: 430.553 | H21: 0.44002713 | I21: 0.098922784 | J21: 0.10309016
A22: 7 | B22: Халк | C22: 887.259 | D22: 703.91 | E22: 0.26047222 | F22: 279.966 | G22: 266.619 | H22: 0.050060198 | I22: 0.076931754 | J22: 0.069480363
A23: 8 | B23: Осигурителна полиса | C23: 711.309 | D23: 664.363 | E23: 0.070663177 | F23: 219.115 | G23: 203.316 | H23: 0.077706624 | I23: 0.06167562 | J23: 0.065576824
A24: 9 | B24: Евроинс | C24: 596.995 | D24: 748.766 | E24: -0.20269483 | F24: 162.677 | G24: 209.511 | H24: -0.22353958 | I24: 0.051763772 | J24: 0.073907933
A25: 10 | B25: Граве неживот | C25: 557.116 | D25: 541.157 | E25: 0.029490518 | F25: 187.656 | G25: 179.945 | H25: 0.042851983 | I25: 0.048305975 | J25: 0.053415614
A26: 11 | B26: ЗОИЛ | C26: 43.461 | D26: 46.214 | E26: -0.059570693 | F26: 15.355 | G26: 0.998 | H26: 14.385772 | I26: 0.0037683821 | J26: 0.0045616137
A27: Вкупно | C27: 11533.066 | D27: 10131.064 | E27: 0.13838645 | F27: 3963.835 | G27: 3617.509 | H27: 0.095736044 | I27: 1 | J27: 1
A29: Објаснување
A30: 1. Податоците се земени од супервизорските извештаи на Агенцијата за супервизија на осигурување и претставуваат прелиминарни податоци. По извршување на проверката конечните податоци се објавуваат во рубриката, Извештаи од осигурителната индустрија, на интернет страницата на Агенцијата за супервизија на осигурување.
A31: кликнете тука...
A32: 2. Друштвата за осигурување се презентирани во две групи согласно областа во која вршат дејност, како друштва за неживотно осигурување и друштва за осигурување на живот сортирани по опаѓачки редослед на бруто полисираната премија.

Sheet Финансиски резултат
A1: Финансиски резултат по друштва за осигурување, 3К2025
B2: МКД
B3: Добивка/ загуба пред оданочување
A5: =[1]FI!A9 -> Триглав | B5: 152812564
A6: =[1]FI!A10 -> Сава | B6: 35093166
A7: =[1]FI!A11 -> Евроинс | B7: 152232434
A8: =[1]FI!A13 -> Еуролинк | B8: 136336284
A9: =[1]FI!A14 -> Уника | B9: 136262511
A10: =[1]FI!A15 -> Осигурителна полиса | B10: 100749833
A11: =[1]FI!A16 -> Кроациа неживот | B11: 50802648
A12: =[1]FI!A17 -> Халк | B12: 8424260
A13: =[1]FI!A18 -> Граве | B13: 34688478
A14: =[1]FI!A19 -> Македонија | B14: 28693810
A15: =[1]FI!A20 -> ЗОИЛ | B15: -17439438
A16: =[1]FI!A21 -> Неживот вкупно | B16: 818656550
A17: =[1]FI!A22 -> Триглав живот | B17: 20285906
A18: =[1]FI!A23 -> Кроациа живот | B18: 62503980
A19: =[1]FI!A24 -> Граве живот | B19: 90197259
... A24: =[1]FI!A29 -> Вкупно | B24: 1059487405
A26: Објаснување
A27: 1. Податоците се земени од супервизорските извештаи на Агенцијата за супервизија на осигурување и претставуваат прелиминарни податоци. По извршување на проверката конечните податоци се објавуваат во рубриката, Извештаи од осигурителната индустрија, на интернет страницата на Агенцијата за супервизија на осигурување.
A28: кликнете тука...
